BEGIN:VCALENDAR
VERSION:2.0
PRODID:-//ChamberMaster//Event Calendar 2.0//EN
METHOD:PUBLISH
X-PUBLISHED-TTL:P3D
REFRESH-INTERVAL:P3D
CALSCALE:GREGORIAN
BEGIN:VEVENT
DTSTART:20241031T230000Z
DTEND:20241101T010000Z
X-MICROSOFT-CDO-ALLDAYEVENT:FALSE
SUMMARY:Truck or Treat
DESCRIPTION:KTHS is hosting a Truck or Treat. Bring your trucks\, ATV's\, motorcycles\, and candy to hand out! Bring your kids for a fun night
X-ALT-DESC;FMTTYPE=text/html:KTHS is hosting a Truck or Treat. Bring your trucks\, ATV&#39\;s\, motorcycles\, and candy to hand out! Bring your kids for a fun night
LOCATION:Harter House Parking Lot
UID:e.2943.346
SEQUENCE:3
DTSTAMP:20260420T223023Z
URL:https://www.berryvillechamber.com/events/details/truck-or-treat-346
END:VEVENT

END:VCALENDAR
