BEGIN:VCALENDAR
VERSION:2.0
PRODID:-//ChamberMaster//Event Calendar 2.0//EN
METHOD:PUBLISH
X-PUBLISHED-TTL:P3D
REFRESH-INTERVAL:P3D
CALSCALE:GREGORIAN
BEGIN:VEVENT
DTSTART:20251018T124500Z
DTEND:20251018T140000Z
X-MICROSOFT-CDO-ALLDAYEVENT:FALSE
SUMMARY:Tractor Supply Ribbon Cutting Celebration!
DESCRIPTION:Tractor Supply Ribbon Cutting Celebration!\n\nThe Berryville Chamber of Commerce is proud to welcome Tractor Supply Co. to our community! Join us for their Grand Opening Day & Ribbon Cutting Ceremony on Saturday\, October 18th at 7:45 AM at 2501 W. Freeman Ave.\, Berryville\, AR.\n\nNot only does Tractor Supply bring valuable jobs and economic growth to Berryville\, but they're also known nationwide for giving back to the communities they serve. From supporting local farmers and 4-H programs to investing in rural development\, Tractor Supply is committed to strengthening hometowns like ours.\n\nCome celebrate this exciting addition\, meet the team\, and show your support as we welcome a company that believes in both business and community!
X-ALT-DESC;FMTTYPE=text/html:<h1 data-pm-slice="1 1 []" style="text-align: center\;"><strong><span style="font-size: 25px"><span style="font-family: Arial\, 'Helvetica Neue'\, Helvetica\, sans-serif">Tractor Supply Ribbon Cutting Celebration!</span></span></strong></h1>\n\n<p style="text-align: center\;"><span style="font-family: Arial\, 'Helvetica Neue'\, Helvetica\, sans-serif">The Berryville Chamber of Commerce is proud to welcome </span><strong><span style="font-family: Arial\, 'Helvetica Neue'\, Helvetica\, sans-serif">Tractor Supply Co.</span></strong><span style="font-family: Arial\, 'Helvetica Neue'\, Helvetica\, sans-serif"> to our community! Join us for their </span><strong><span style="font-family: Arial\, 'Helvetica Neue'\, Helvetica\, sans-serif">Grand Opening Day &amp\; Ribbon Cutting Ceremony</span></strong><span style="font-family: Arial\, 'Helvetica Neue'\, Helvetica\, sans-serif"> on </span><strong><span style="font-family: Arial\, 'Helvetica Neue'\, Helvetica\, sans-serif">Saturday\, October 18th at 7:45&nbsp\;AM</span></strong><span style="font-family: Arial\, 'Helvetica Neue'\, Helvetica\, sans-serif"> at </span><strong><span style="font-family: Arial\, 'Helvetica Neue'\, Helvetica\, sans-serif">2501 W. Freeman Ave.\, Berryville\, AR.</span></strong></p>\n\n<p style="text-align: center\;"><span style="font-family: Arial\, 'Helvetica Neue'\, Helvetica\, sans-serif">Not only does Tractor Supply bring valuable jobs and economic growth to Berryville\, but they&rsquo\;re also known nationwide for giving back to the communities they serve. From supporting local farmers and 4-H programs to investing in rural development\, Tractor Supply is committed to strengthening hometowns like ours.</span></p>\n\n<p style="text-align: center\;"><span style="font-family: Arial\, 'Helvetica Neue'\, Helvetica\, sans-serif">Come celebrate this exciting addition\, meet the team\, and show your support as we welcome a company that believes in both business and community!</span></p>\n
LOCATION:2501 W. Freeman Ave.\, Berryville\, AR.
UID:e.2943.938
SEQUENCE:3
DTSTAMP:20260420T005604Z
URL:https://www.berryvillechamber.com/events/details/tractor-supply-ribbon-cutting-celebration-938
END:VEVENT

END:VCALENDAR
