BEGIN:VCALENDAR
VERSION:2.0
PRODID:-//ChamberMaster//Event Calendar 2.0//EN
METHOD:PUBLISH
X-PUBLISHED-TTL:P3D
REFRESH-INTERVAL:P3D
CALSCALE:GREGORIAN
BEGIN:VEVENT
DTSTART:20240907T220000Z
DTEND:20240908T013000Z
X-MICROSOFT-CDO-ALLDAYEVENT:FALSE
SUMMARY:The Southern Table
DESCRIPTION:Holiday Island Chamber to host\n\nGrand Champion Pitmaster and Cook\n\nJohn Lindsey - one night only\n\n \n\nSaturday\, Sept 7 with 5 pm or 7:30 pm seating\n\nHoliday Island Country Club\, 1 Country Club Drive\, Holiday Island \n\nMeal includes 2 meats:  "Topped Stuffed" Marinated Pork Loin and \n\nawarding winning Smoked and Glazed Chicken Quarters\, Signature\n\n"Southern Bliss"  Green Beans and Glazed Carrots with Brown Sugar\n\nButter Sauce\, and New Orleans Style Bourbon Bread Pudding\n\n$25/person - Call 479-244-9594 for reservations.
X-ALT-DESC;FMTTYPE=text/html:<div>Holiday Island Chamber to host</div>\n\n<div>Grand Champion Pitmaster and Cook</div>\n\n<div>John Lindsey -<strong>&nbsp\;one night only</strong></div>\n\n<div>&nbsp\;</div>\n\n<div>Saturday\, Sept 7 with 5 pm or 7:30 pm seating</div>\n\n<div>Holiday Island Country Club\, 1 Country Club Drive\, Holiday Island&nbsp\;</div>\n\n<div>Meal includes 2 meats:&nbsp\; &quot\;Topped Stuffed&quot\; Marinated&nbsp\;Pork Loin and&nbsp\;</div>\n\n<div>awarding winning Smoked and Glazed Chicken Quarters\, Signature</div>\n\n<div>&quot\;Southern Bliss&quot\;&nbsp\; Green Beans and Glazed Carrots with Brown Sugar</div>\n\n<div>Butter Sauce\, and New Orleans Style Bourbon&nbsp\;Bread Pudding</div>\n\n<div>$25/person - Call 479-244-9594 for reservations.</div>\n\n<div>&nbsp\;</div>\n
LOCATION:Holiday Island Country Club Ballroom\, 1 Country Club Lane\, Holiday Island\, AR 72631
UID:e.2943.340
SEQUENCE:3
DTSTAMP:20260420T235648Z
URL:https://www.berryvillechamber.com/events/details/the-southern-table-340
END:VEVENT

END:VCALENDAR
