BEGIN:VCALENDAR
VERSION:2.0
PRODID:-//ChamberMaster//Event Calendar 2.0//EN
METHOD:PUBLISH
X-PUBLISHED-TTL:P3D
REFRESH-INTERVAL:P3D
CALSCALE:GREGORIAN
BEGIN:VEVENT
DTSTART:20250412T230000Z
DTEND:20250413T020000Z
X-MICROSOFT-CDO-ALLDAYEVENT:FALSE
SUMMARY:The Saved Rave
DESCRIPTION:Welcome to North West Arkansas' first ever Saved Rave!! Join us as we transform an old skating rink into a night of Christian EDM\, laser lights\, dancing\, photo-ops\, food trucks\, and more! ??? Mark your calendars for an unforgettable evening April 12th\, 2025 6-9pm in Eureka Springs\, Arkansas! Entry is donation based in support of NDF Youth a local youth group in Eureka Springs\, AR.
X-ALT-DESC;FMTTYPE=text/html:Welcome to North West Arkansas&#39\; first ever Saved Rave!! Join us as we transform an old skating rink into a night of Christian EDM\, laser lights\, dancing\, photo-ops\, food trucks\, and more! ??? Mark your calendars for an unforgettable evening April 12th\, 2025 6-9pm in Eureka Springs\, Arkansas! Entry is donation based in support of NDF Youth a local youth group in Eureka Springs\, AR.
LOCATION:440 Passion Play Rd Eureka Springs\, AR
UID:e.2943.371
SEQUENCE:3
DTSTAMP:20260420T093129Z
URL:https://www.berryvillechamber.com/events/details/the-saved-rave-371
END:VEVENT

END:VCALENDAR
