BEGIN:VCALENDAR
VERSION:2.0
PRODID:-//ChamberMaster//Event Calendar 2.0//EN
METHOD:PUBLISH
X-PUBLISHED-TTL:P3D
REFRESH-INTERVAL:P3D
CALSCALE:GREGORIAN
BEGIN:VEVENT
DTSTART:20250506T150000Z
DTEND:20250506T230000Z
X-MICROSOFT-CDO-ALLDAYEVENT:FALSE
SUMMARY:The Coffee Spot at The Blossoms at Berryville
DESCRIPTION:The Coffee Spot LLC will be serving brews and flavor infused drinks from The Blossoms at Berryville parking lot\, on May 6th from around 10:00 AM to about 6:00PM (foot traffic pending)
X-ALT-DESC;FMTTYPE=text/html:The Coffee Spot LLC will be serving brews and flavor infused drinks from The Blossoms at Berryville parking lot\, on May 6th from around 10:00 AM to about 6:00PM (foot traffic pending)
LOCATION:500 Hammons Ave (Behind Mercy Hospital)
UID:e.2943.926
SEQUENCE:3
DTSTAMP:20260420T081051Z
URL:https://www.berryvillechamber.com/events/details/the-coffee-spot-at-the-blossoms-at-berryville-926
END:VEVENT

END:VCALENDAR
