BEGIN:VCALENDAR
VERSION:2.0
PRODID:-//ChamberMaster//Event Calendar 2.0//EN
METHOD:PUBLISH
X-PUBLISHED-TTL:P3D
REFRESH-INTERVAL:P3D
CALSCALE:GREGORIAN
BEGIN:VEVENT
DTSTART:20250515T150000Z
DTEND:20250515T213000Z
X-MICROSOFT-CDO-ALLDAYEVENT:FALSE
SUMMARY:The Blossoms Carnival Cook-Out
DESCRIPTION:Celebrate Skilled Nursing Care Week with us! Bounce House\, Carnival Games\, Face Painting\, plus Hotdogs & Hamburgers (until food runs out)!
X-ALT-DESC;FMTTYPE=text/html:Celebrate Skilled Nursing Care Week with us! Bounce House\, Carnival Games\, Face Painting\, plus Hotdogs &amp\; Hamburgers (until food runs out)!
LOCATION:500 Hammons Ave (Behind Mercy Hospital)
UID:e.2943.927
SEQUENCE:3
DTSTAMP:20260420T093615Z
URL:https://www.berryvillechamber.com/events/details/the-blossoms-carnival-cook-out-927
END:VEVENT

END:VCALENDAR
