BEGIN:VCALENDAR
VERSION:2.0
PRODID:-//ChamberMaster//Event Calendar 2.0//EN
METHOD:PUBLISH
X-PUBLISHED-TTL:P3D
REFRESH-INTERVAL:P3D
CALSCALE:GREGORIAN
BEGIN:VEVENT
DTSTART:20250401T160000Z
DTEND:20250401T170000Z
X-MICROSOFT-CDO-ALLDAYEVENT:FALSE
SUMMARY:The Berryville Library Groundbreaking
DESCRIPTION:Berryville Library to break ground on April 1\n\n \n\nThe Friends of the Berryville Library are excited to announce that construction of the new library will begin in April.\n\n \n\nA formal groundbreaking ceremony will take place on Tuesday\, April 1\, at 11 AM. The new library is being built at 207 South Springfield Street in Berryville\, across from City Pool Park. Nabholz is managing the construction of the library.\n\n \n\nSince no local tax revenues can be used for the construction costs of a new library\, it is being built primarily with private funds raised from local individuals\, families\, and businesses. \n\n \n\nFriends President Elaine Floyd stated\, "We have been amazed by the number of people who have stepped up over the last four years to help us move this new library from a dream to a reality.  April 1 is known for foolery\, but this is no joke. We are building a new library. And we couldn't have done this without the help of all our friends. Thanks to everyone who has donated\, and it's not too late to help. We still need donations to furnish this building."\n\n \n\nTo date\, the Friends have raised enough to cover construction costs. Additional funds need to be raised for furnishings.\n\n \n\nLibrary Director Julie Hall stated\, "April 1 will be a historic day here in Berryville. As many know\, we have been working towards the goal of a new library for years now and have made it happen. We aren't done yet\, though. Please help us get this building furnished. April 1 is also Library Giving Day. Please donate if you can. No gift is too big or too small."\n\n \n\nIf you would like to make a tax-deductible donation toward the furnishings in the new library or find out more about naming opportunities or the groundbreaking\, contact the library at 104 Spring Street or (870) 423-2323 or call Kristy Tesch at (870) 654-6565.
X-ALT-DESC;FMTTYPE=text/html:<strong><span style="color:black\;"><span style="font-size:14.0pt\;">Berryville Library to break ground on April 1</span></span></strong><br />\n&nbsp\;<br />\n<span style="color:black\;">The Friends of the Berryville Library are excited to announce that construction of the new library will begin in April.</span><br />\n&nbsp\;<br />\n<span style="color:black\;">A formal groundbreaking ceremony will take place on Tuesday\, April 1\, at 11 AM. The new library is being built at 207 South Springfield Street in Berryville\, across from City Pool Park. Nabholz is managing the construction of the library.</span><br />\n&nbsp\;<br />\n<span style="color:black\;">Since no local tax revenues can be used for the construction costs of a new library\, it is being built primarily with private funds raised from local individuals\, families\, and businesses.&nbsp\;</span><br />\n&nbsp\;<br />\n<span style="color:black\;">Friends President Elaine Floyd stated\, &ldquo\;We have been amazed by the number of people who have stepped up over the last four years to help us move this new library from a dream to a reality.&nbsp\; April 1 is known for foolery\, but this is no joke. We are building a new library. And we couldn&rsquo\;t have done this without the help of all our friends. Thanks to everyone who has donated\, and it&rsquo\;s not too late to help. We still need donations to furnish this building.&rdquo\;</span><br />\n&nbsp\;<br />\n<span style="color:black\;">To date\, the Friends have raised enough to cover construction costs. Additional funds need to be raised for furnishings.</span><br />\n&nbsp\;<br />\n<span style="color:black\;">Library Director Julie Hall stated\, &ldquo\;April 1 will be a historic day here in Berryville. As many know\, we have been working towards the goal of a new library for years now and have made it happen. We aren&rsquo\;t done yet\, though. Please help us get this building furnished. April 1 is also Library Giving Day. Please donate if you can. No gift is too big or too small.&rdquo\;</span><br />\n&nbsp\;<br />\n<span style="color:black\;">If you would like to make a tax-deductible donation toward the furnishings in the new library or find out more about naming opportunities or the groundbreaking\, contact the library at 104 Spring Street or (870) 423-2323 or call Kristy Tesch at (870) 654-6565.</span>
LOCATION:207 South Springfield Street\, Berryville\, AR 72616
UID:e.2943.917
SEQUENCE:3
DTSTAMP:20260420T093432Z
URL:https://www.berryvillechamber.com/events/details/the-berryville-library-groundbreaking-917
END:VEVENT

END:VCALENDAR
