BEGIN:VCALENDAR
VERSION:2.0
PRODID:-//ChamberMaster//Event Calendar 2.0//EN
METHOD:PUBLISH
X-PUBLISHED-TTL:P3D
REFRESH-INTERVAL:P3D
CALSCALE:GREGORIAN
BEGIN:VEVENT
DTSTART:20250509T120000Z
DTEND:20250511T000000Z
X-MICROSOFT-CDO-ALLDAYEVENT:FALSE
SUMMARY:Swap Meet Fundraiser for CC Historical Society
DESCRIPTION:Join us for a swap meet at Pioneer Park! \n\n\n\nReserve your spot today! 12X12 vendor spaces available $15 for one day or $30 for both days. To sign up or ask questions\, contact Starlene @ 870-654-9615. \n\n\n\nMay 9-10\, 2025 7AM-7PM\n\n\n\n*Vendors may setup and take down when they please during these hours*\n\n\n\nPioneer Park\, Berryville\, AR
X-ALT-DESC;FMTTYPE=text/html:Join us for a swap meet at Pioneer Park!&nbsp\;<br />\n<br />\nReserve your spot today! 12X12 vendor spaces available $15 for one day or $30 for both days. To sign up or ask questions\, contact Starlene @ 870-654-9615.&nbsp\;<br />\n<br />\nMay 9-10\, 2025 7AM-7PM<br />\n<br />\n*Vendors may setup and take down when they please during these hours*<br />\n<br />\nPioneer Park\, Berryville\, AR&nbsp\;
LOCATION:Pioneer Park\, Berryville\, AR
UID:e.2943.924
SEQUENCE:3
DTSTAMP:20260420T080906Z
URL:https://www.berryvillechamber.com/events/details/swap-meet-fundraiser-for-cc-historical-society-924
END:VEVENT

END:VCALENDAR
