BEGIN:VCALENDAR
VERSION:2.0
PRODID:-//ChamberMaster//Event Calendar 2.0//EN
METHOD:PUBLISH
X-PUBLISHED-TTL:P3D
REFRESH-INTERVAL:P3D
CALSCALE:GREGORIAN
BEGIN:VEVENT
DTSTART:20250106T190000Z
DTEND:20250106T220000Z
X-MICROSOFT-CDO-ALLDAYEVENT:FALSE
SUMMARY:"State of the State" Conference
DESCRIPTION:Join us for an event with AR State Representative Harlan Breaux and AR State Senator Bryan King. This is a ticketed event to help raise money for the Berryville Chamber\, and refreshments will be provided. The conference will be held in the Berryville Community Center Auditorium on January 6th\, 2025\, 1PM - 4PM.This is a great opportunity for our community to connect\, learn about upcoming bills and discuss how we can get involved before the Legislative Session begins on January 13\, 2025. Get your tickets today!
X-ALT-DESC;FMTTYPE=text/html:<span style="font-size:14px\;">Join us for an event with AR State Representative Harlan Breaux and AR State Senator Bryan King. </span><span style="color: rgb(8\, 8\, 9)\; font-family: &quot\;Segoe UI Historic&quot\;\, &quot\;Segoe UI&quot\;\, Helvetica\, Arial\, sans-serif\; font-size: 15px\;">This is a ticketed event to help raise money for the Berryville Chamber\, and refreshments will be provided.</span><span style="font-size:14px\;"><span style="font-family:aptos\,sans-serif\;">&nbsp\;</span>The conference will be held in the Berryville Community Center Auditorium on January 6th\, 2025\, 1PM - 4PM.This is a great opportunity for our community to connect\, learn about upcoming bills and discuss how we can get involved before the Legislative Session begins on January 13\, 2025. Get your tickets today!</span>
LOCATION:Berryville Community Center Auditorium 601 Dr Spurlin Circle\, Berryville\, AR 72616
UID:e.2943.360
SEQUENCE:3
DTSTAMP:20260420T174436Z
URL:https://www.berryvillechamber.com/events/details/state-of-the-state-conference-360
END:VEVENT

END:VCALENDAR
