BEGIN:VCALENDAR
VERSION:2.0
PRODID:-//ChamberMaster//Event Calendar 2.0//EN
METHOD:PUBLISH
X-PUBLISHED-TTL:P3D
REFRESH-INTERVAL:P3D
CALSCALE:GREGORIAN
BEGIN:VEVENT
DTSTART;VALUE=DATE:20251204
DTEND;VALUE=DATE:20251205
TRANSP:TRANSPARENT
X-MICROSOFT-CDO-ALLDAYEVENT:TRUE
SUMMARY:SPSFNWA-Jingle Mingle
DESCRIPTION:Jingle Mingle is our annual celebration\, bringing together scholarship recipients and supporters for a festive evening of connection and cheer as we close out the year. This special event also serves as a key fundraising opportunity\, where many choose to make their year-end contributions to help fund scholarships and empower single-parent students.
X-ALT-DESC;FMTTYPE=text/html:Jingle Mingle is our annual celebration\, bringing together scholarship recipients and supporters for a festive evening of connection and cheer as we close out the year. This special event also serves as a key fundraising opportunity\, where many choose to make their year-end contributions to help fund scholarships and empower single-parent students.
LOCATION:
UID:e.2943.783
SEQUENCE:3
DTSTAMP:20260419T220258Z
URL:https://www.berryvillechamber.com/events/details/spsfnwa-jingle-mingle-783
END:VEVENT

END:VCALENDAR
