BEGIN:VCALENDAR
VERSION:2.0
PRODID:-//ChamberMaster//Event Calendar 2.0//EN
METHOD:PUBLISH
X-PUBLISHED-TTL:P3D
REFRESH-INTERVAL:P3D
CALSCALE:GREGORIAN
BEGIN:VEVENT
DTSTART;VALUE=DATE:20251010
DTEND;VALUE=DATE:20251011
TRANSP:TRANSPARENT
X-MICROSOFT-CDO-ALLDAYEVENT:TRUE
SUMMARY:SPSFNWA-Golftoberfest VIP
DESCRIPTION:Golftoberfest\, NWA's ORIGINAL Mini-Golf Tourney\, now has a VIP Opportunity! Another great option to get your team out for a fun time at Rogers TOPGOLF! Unlimited TOPGOLF Play (up to 6 people per team) Live Leaderboard Includes Breakfast & Lunch and NonAlcoholic Beverages Exclusive Event with Limited Availability Cost is $1000 per Team
X-ALT-DESC;FMTTYPE=text/html:Golftoberfest\, NWA&rsquo\;s ORIGINAL Mini-Golf Tourney\, now has a VIP Opportunity! Another great option to get your team out for a fun time at Rogers TOPGOLF! Unlimited TOPGOLF Play (up to 6 people per team) Live Leaderboard Includes Breakfast &amp\; Lunch and NonAlcoholic Beverages Exclusive Event with Limited Availability Cost is $1000 per Team
LOCATION:
UID:e.2943.782
SEQUENCE:3
DTSTAMP:20260420T022201Z
URL:https://www.berryvillechamber.com/events/details/spsfnwa-golftoberfest-vip-782
END:VEVENT

END:VCALENDAR
