BEGIN:VCALENDAR
VERSION:2.0
PRODID:-//ChamberMaster//Event Calendar 2.0//EN
METHOD:PUBLISH
X-PUBLISHED-TTL:P3D
REFRESH-INTERVAL:P3D
CALSCALE:GREGORIAN
BEGIN:VEVENT
DTSTART;VALUE=DATE:20251004
DTEND;VALUE=DATE:20251020
TRANSP:TRANSPARENT
X-MICROSOFT-CDO-ALLDAYEVENT:TRUE
SUMMARY:SPSFNWA-Golftoberfest
DESCRIPTION:Golftoberfest is NWA's ORIGINAL Mini-Golf Tourney! Golftoberfest is a family-friendly event where SPSFNWA recipients and their families are also invited to participate. Golftoberfest is a great way to encourage your family\, friends\, and co-workers to get out and play for a good cause. Held at Gator Golf in Fayetteville and Golf Mountain in Lowell\, this two-week event gives you the opportunity to go play at a time of your choosing! Register a team of four players for just $80. Register a team of four players and sponsor a family team for only $160.
X-ALT-DESC;FMTTYPE=text/html:Golftoberfest is NWA&rsquo\;s ORIGINAL Mini-Golf Tourney! Golftoberfest is a family-friendly event where SPSFNWA recipients and their families are also invited to participate. Golftoberfest is a great way to encourage your family\, friends\, and co-workers to get out and play for a good cause. Held at Gator Golf in Fayetteville and Golf Mountain in Lowell\, this two-week event gives you the opportunity to go play at a time of your choosing! Register a team of four players for just $80. Register a team of four players and sponsor a family team for only $160.
LOCATION:
UID:e.2943.781
SEQUENCE:3
DTSTAMP:20260420T005604Z
URL:https://www.berryvillechamber.com/events/details/spsfnwa-golftoberfest-781
END:VEVENT

END:VCALENDAR
