BEGIN:VCALENDAR
VERSION:2.0
PRODID:-//ChamberMaster//Event Calendar 2.0//EN
METHOD:PUBLISH
X-PUBLISHED-TTL:P3D
REFRESH-INTERVAL:P3D
CALSCALE:GREGORIAN
BEGIN:VEVENT
DTSTART;VALUE=DATE:20250405
DTEND;VALUE=DATE:20250406
TRANSP:TRANSPARENT
X-MICROSOFT-CDO-ALLDAYEVENT:TRUE
SUMMARY:SPSFNWA-Distinguished Scholars Brunch
DESCRIPTION:Named Scholarships will be awarded to seventy-six exemplary recipients in the Single Parent Scholarship Fund of Northwest Arkansas (SPSFNWA) program. The families and businesses who established the scholarships will be recognized and provided this special opportunity to become acquainted with their recipient. Scholarship recipients are selected based upon the criteria set by the family or business. All recipients are low-income\, single parents who are pursuing higher education as a pathway out of poverty for their families.
X-ALT-DESC;FMTTYPE=text/html:Named Scholarships will be awarded to seventy-six exemplary recipients in the Single Parent Scholarship Fund of Northwest Arkansas (SPSFNWA) program. The families and businesses who established the scholarships will be recognized and provided this special opportunity to become acquainted with their recipient. Scholarship recipients are selected based upon the criteria set by the family or business. All recipients are low-income\, single parents who are pursuing higher education as a pathway out of poverty for their families.
LOCATION:
UID:e.2943.779
SEQUENCE:3
DTSTAMP:20260420T093411Z
URL:https://www.berryvillechamber.com/events/details/spsfnwa-distinguished-scholars-brunch-779
END:VEVENT

END:VCALENDAR
