BEGIN:VCALENDAR
VERSION:2.0
PRODID:-//ChamberMaster//Event Calendar 2.0//EN
METHOD:PUBLISH
X-PUBLISHED-TTL:P3D
REFRESH-INTERVAL:P3D
CALSCALE:GREGORIAN
BEGIN:VEVENT
DTSTART:20241121T223000Z
DTEND:20241122T023000Z
X-MICROSOFT-CDO-ALLDAYEVENT:FALSE
SUMMARY:Shop With A Cop: Chili Supper & Silent Auction
DESCRIPTION:Mark your calendars for The Merlin Foundation's annual Chili Supper & Silent Auction benefiting Carroll County's Shop With A Cop Christmas program for Thursday\, November 21st. This event will take place at Bobcat Arena in Berryville as the Bobcats take on the Valley Springs Tigers. Chili will be $5 a person and the winners of the silent auction items will be announced at halftime of the senior boys game. We will also be raffling off a custom Butch Hanby knife. All proceeds from this event will go to the children of Carroll County whose families need holiday aid and would otherwise not have a Christmas. We thank you all for your continued support of our mission. If you would like to donate or enter your chili in the cook-off\, please call Kaleigh Evans-Soma at 870-517-1681.
X-ALT-DESC;FMTTYPE=text/html:Mark your calendars for The Merlin Foundation&#39\;s annual Chili Supper &amp\; Silent Auction benefiting Carroll County&#39\;s Shop With A Cop Christmas program for Thursday\, November 21st. This event will take place at Bobcat Arena in Berryville as the Bobcats take on the Valley Springs Tigers. Chili will be $5 a person and the winners of the silent auction items will be announced at halftime of the senior boys game. We will also be raffling off a custom Butch Hanby knife. All proceeds from this event will go to the children of Carroll County whose families need holiday aid and would otherwise not have a Christmas. We thank you all for your continued support of our mission. If you would like to donate or enter your chili in the cook-off\, please call Kaleigh Evans-Soma at 870-517-1681.
LOCATION:Bobcat Arena
UID:e.2943.356
SEQUENCE:3
DTSTAMP:20260420T223313Z
URL:https://www.berryvillechamber.com/events/details/shop-with-a-cop-chili-supper-silent-auction-11-21-2024-356
END:VEVENT

END:VCALENDAR
