BEGIN:VCALENDAR
VERSION:2.0
PRODID:-//ChamberMaster//Event Calendar 2.0//EN
METHOD:PUBLISH
X-PUBLISHED-TTL:P3D
REFRESH-INTERVAL:P3D
CALSCALE:GREGORIAN
BEGIN:VEVENT
DTSTART:20251122T230000Z
DTEND:20251123T030000Z
X-MICROSOFT-CDO-ALLDAYEVENT:FALSE
SUMMARY:Santa Paws Bash 2025
DESCRIPTION:For over 50 years\, Good Shepherd has been a cornerstone of our community\, providing unparalleled care for pets and support for people. For 2025\, we are on pace to place around 700 pets in loving homes\, provide roughly 100\,000 pounds of pet food to animal owners in need\, vaccinate over 4\,000 pets\, and performed over 3\,000 spay/neuters! Some highlights for this festive evening are: A delicious plated dinner (Beef\, Chicken\, Vegetarian/Pasta) Two drink tickets per guest Music & entertainment Over 100 items to choose from in our silent auction 50 / 50 Raffle\, Jewelry Grab Bag\, Holiday Market Great people and lots of socializing There are also blocks of rooms at the Inn of the Ozarks for Friday and Saturday nights at a low rate of $70 (plus tax and fees). Please help support us in our mission to provide compassionate care to dogs and cats while supporting the wellbeing of the pets and people in our community. Buy tickets at onecau.se/santapaws25
X-ALT-DESC;FMTTYPE=text/html:For over 50 years\, Good Shepherd has been a cornerstone of our community\, providing unparalleled care for pets and support for people. For 2025\, we are on pace to place around 700 pets in loving homes\, provide roughly 100\,000 pounds of pet food to animal owners in need\, vaccinate over 4\,000 pets\, and performed over 3\,000 spay/neuters! Some highlights for this festive evening are: A delicious plated dinner (Beef\, Chicken\, Vegetarian/Pasta) Two drink tickets per guest Music &amp\; entertainment Over 100 items to choose from in our silent auction 50 / 50 Raffle\, Jewelry Grab Bag\, Holiday Market Great people and lots of socializing There are also blocks of rooms at the Inn of the Ozarks for Friday and Saturday nights at a low rate of $70 (plus tax and fees). Please help support us in our mission to provide compassionate care to dogs and cats while supporting the wellbeing of the pets and people in our community. Buy tickets at onecau.se/santapaws25
LOCATION:Best Western Inn of the Ozarks\, Eureka Springs\, AR
UID:e.2943.943
SEQUENCE:3
DTSTAMP:20260419T232854Z
URL:https://www.berryvillechamber.com/events/details/santa-paws-bash-2025-943
END:VEVENT

END:VCALENDAR
