BEGIN:VCALENDAR
VERSION:2.0
PRODID:-//ChamberMaster//Event Calendar 2.0//EN
METHOD:PUBLISH
X-PUBLISHED-TTL:P3D
REFRESH-INTERVAL:P3D
CALSCALE:GREGORIAN
BEGIN:VEVENT
DTSTART:20251220T170000Z
DTEND:20251220T190000Z
X-MICROSOFT-CDO-ALLDAYEVENT:FALSE
SUMMARY:Santa is Coming
DESCRIPTION:Santa is coming to the Airport on Saturday the 20th from 11am to 1pm. Santa is arriving by helicopter (weather permitting). Gifts for all the kids. spaghetti and garlic bread served\, donations accepted. Kths will have a remote broadcast.
X-ALT-DESC;FMTTYPE=text/html:Santa is coming to the Airport on Saturday the 20th from 11am to 1pm. Santa is arriving by helicopter (weather permitting). Gifts for all the kids. spaghetti and garlic bread served\, donations accepted. Kths will have a remote broadcast.
LOCATION:Carroll County Airport
UID:e.2943.951
SEQUENCE:3
DTSTAMP:20260419T220113Z
URL:https://www.berryvillechamber.com/events/details/santa-is-coming-951
END:VEVENT

END:VCALENDAR
