BEGIN:VCALENDAR
VERSION:2.0
PRODID:-//ChamberMaster//Event Calendar 2.0//EN
METHOD:PUBLISH
X-PUBLISHED-TTL:P3D
REFRESH-INTERVAL:P3D
CALSCALE:GREGORIAN
BEGIN:VEVENT
DTSTART:20241221T200000Z
DTEND:20241221T220000Z
X-MICROSOFT-CDO-ALLDAYEVENT:FALSE
SUMMARY:Santa Clause is coming to the hardware store
DESCRIPTION:Santa and sales!\n\nCome see Santa for pictures and check out all the deals at Powell Home and Ranch\n\nChristmas sales from December 18-24\, 2024
X-ALT-DESC;FMTTYPE=text/html:Santa and sales!<br />\nCome see Santa for pictures and check out all the deals at Powell Home and Ranch<br />\nChristmas sales from December 18-24\, 2024
LOCATION:Powell Home and Ranch 1107 S. Main \, Berryville\, AR\, United States\, Arkansas
UID:e.2943.364
SEQUENCE:3
DTSTAMP:20260420T192106Z
URL:https://www.berryvillechamber.com/events/details/santa-clause-is-coming-to-the-hardware-store-364
END:VEVENT

END:VCALENDAR
