BEGIN:VCALENDAR
VERSION:2.0
PRODID:-//ChamberMaster//Event Calendar 2.0//EN
METHOD:PUBLISH
X-PUBLISHED-TTL:P3D
REFRESH-INTERVAL:P3D
CALSCALE:GREGORIAN
BEGIN:VEVENT
DTSTART:20241125T200000Z
DTEND:20241125T203000Z
X-MICROSOFT-CDO-ALLDAYEVENT:FALSE
SUMMARY:Ribbon Cutting - Style Street Salon and Boutique
DESCRIPTION:
X-ALT-DESC;FMTTYPE=text/html:
LOCATION:304 Eureka Ave\, Berryville\, AR 72616
UID:e.2943.357
SEQUENCE:3
DTSTAMP:20260420T205958Z
URL:https://www.berryvillechamber.com/events/details/ribbon-cutting-style-street-salon-and-boutique-357
END:VEVENT

END:VCALENDAR
