BEGIN:VCALENDAR
VERSION:2.0
PRODID:-//ChamberMaster//Event Calendar 2.0//EN
METHOD:PUBLISH
X-PUBLISHED-TTL:P3D
REFRESH-INTERVAL:P3D
CALSCALE:GREGORIAN
BEGIN:VEVENT
DTSTART:20250404T180000Z
DTEND:20250404T190000Z
X-MICROSOFT-CDO-ALLDAYEVENT:FALSE
SUMMARY:Ribbon Cutting - Rancho Latino Supermercado
DESCRIPTION:Join us for a Ribbon Cutting for the new location of Rancho Latino Supermercado! Be sure to make plans to attend!
X-ALT-DESC;FMTTYPE=text/html:<span style="color: rgb(8\, 8\, 9)\; font-family: &quot\;Segoe UI Historic&quot\;\, &quot\;Segoe UI&quot\;\, Helvetica\, Arial\, sans-serif\; font-size: 15px\;">Join us for a Ribbon Cutting for the new location of Rancho Latino Supermercado! Be sure to make plans to attend!</span>
LOCATION:206 S. Springfield St\, Berryville\, AR 72616
UID:e.2943.919
SEQUENCE:3
DTSTAMP:20260420T093725Z
URL:https://www.berryvillechamber.com/events/details/ribbon-cutting-rancho-latino-supermercado-919
END:VEVENT

END:VCALENDAR
