BEGIN:VCALENDAR
VERSION:2.0
PRODID:-//ChamberMaster//Event Calendar 2.0//EN
METHOD:PUBLISH
X-PUBLISHED-TTL:P3D
REFRESH-INTERVAL:P3D
CALSCALE:GREGORIAN
BEGIN:VEVENT
DTSTART:20251121T190000Z
DTEND:20251121T193000Z
X-MICROSOFT-CDO-ALLDAYEVENT:FALSE
SUMMARY:Ribbon Cutting: Main Street Laundromat
DESCRIPTION:Ribbon Cutting! Come show your community spirit and support!\n\n\n\n\n\n\n\n\nFriday November 21st @ 1PM\n\nMain Street Laundromat\n\n412 S Main Street\, Berryville\, AR 72616
X-ALT-DESC;FMTTYPE=text/html:<h1 data-pm-slice="1 1 []" style="text-align:center\;"><span style="font-size:30px\;"><span style="font-family:arial\,helvetica neue\,helvetica\,sans-serif\;">Ribbon Cutting! Come show your community spirit and support!</span></span></h1>\n<br />\n<br />\n<br />\n<br />\n<strong><span style="font-size:25px\;"><span style="font-family:arial\,helvetica neue\,helvetica\,sans-serif\;">Friday November 21st @ 1PM</span></span></strong><br />\n<strong><span style="font-size:25px\;"><span style="font-family:arial\,helvetica neue\,helvetica\,sans-serif\;">Main Street Laundromat</span></span></strong><br />\n<strong><span style="font-size:25px\;"><span style="font-family:arial\,helvetica neue\,helvetica\,sans-serif\;">412 S Main Street\, Berryville\, AR 72616</span></span></strong>
LOCATION:412 S Main Street\, Berryville\, AR 72616
UID:e.2943.947
SEQUENCE:3
DTSTAMP:20260419T233219Z
URL:https://www.berryvillechamber.com/events/details/ribbon-cutting-main-street-laundromat-947
END:VEVENT

END:VCALENDAR
