BEGIN:VCALENDAR
VERSION:2.0
PRODID:-//ChamberMaster//Event Calendar 2.0//EN
METHOD:PUBLISH
X-PUBLISHED-TTL:P3D
REFRESH-INTERVAL:P3D
CALSCALE:GREGORIAN
BEGIN:VEVENT
DTSTART:20250412T180000Z
DTEND:20250412T183000Z
X-MICROSOFT-CDO-ALLDAYEVENT:FALSE
SUMMARY:Ribbon Cutting - Evergreen Pasture and Provisions
DESCRIPTION:Join us for a Ribbon Cutting for the new location of Evergreen Pasture and Provisions! Be sure to make plans to attend!\n\n103 Public Square\, Berryville\, AR 72616\n\nSaturday\, April 12th @ 1PM
X-ALT-DESC;FMTTYPE=text/html:<span style="color: rgb(8\, 8\, 9)\; font-family: &quot\;Segoe UI Historic&quot\;\, &quot\;Segoe UI&quot\;\, Helvetica\, Arial\, sans-serif\; font-size: 15px\;">Join us for a Ribbon Cutting for the new location of Evergreen Pasture and Provisions! Be sure to make plans to attend!</span><br class="html-br" style="color: rgb(8\, 8\, 9)\; font-family: &quot\;Segoe UI Historic&quot\;\, &quot\;Segoe UI&quot\;\, Helvetica\, Arial\, sans-serif\; font-size: 15px\;" />\n<span style="color: rgb(8\, 8\, 9)\; font-family: &quot\;Segoe UI Historic&quot\;\, &quot\;Segoe UI&quot\;\, Helvetica\, Arial\, sans-serif\; font-size: 15px\;">103 Public Square\, Berryville\, AR 72616</span><br class="html-br" style="color: rgb(8\, 8\, 9)\; font-family: &quot\;Segoe UI Historic&quot\;\, &quot\;Segoe UI&quot\;\, Helvetica\, Arial\, sans-serif\; font-size: 15px\;" />\n<span style="color: rgb(8\, 8\, 9)\; font-family: &quot\;Segoe UI Historic&quot\;\, &quot\;Segoe UI&quot\;\, Helvetica\, Arial\, sans-serif\; font-size: 15px\;">Saturday\, April 12th @ 1PM</span>
LOCATION:103 Public Square\, Berryville\, AR 72616
UID:e.2943.920
SEQUENCE:3
DTSTAMP:20260420T105634Z
URL:https://www.berryvillechamber.com/events/details/ribbon-cutting-evergreen-pasture-and-provisions-920
END:VEVENT

END:VCALENDAR
