BEGIN:VCALENDAR
VERSION:2.0
PRODID:-//ChamberMaster//Event Calendar 2.0//EN
METHOD:PUBLISH
X-PUBLISHED-TTL:P3D
REFRESH-INTERVAL:P3D
CALSCALE:GREGORIAN
BEGIN:VEVENT
DTSTART:20250731T190000Z
DTEND:20250731T200000Z
X-MICROSOFT-CDO-ALLDAYEVENT:FALSE
SUMMARY:Ribbon Cutting - Dylan Jane's Boutique
DESCRIPTION:You're invited to a special ribbon-cutting ceremony for Dylan Jane's Boutique!\n\nJoin us on July 31st at 2:00 PM at 104 E Church Ave\, Berryville\, AR\, on the public square\, as we celebrate this exciting new addition to our community.\n\nDylan Jane's Boutique offers a fantastic selection of stylish women's clothing and accessories. Come check out their collection and support a local business!\n\nThe Berryville Chamber of Commerce will be hosting this event\, and we'd love to see you there. Don't miss out on the fun!
X-ALT-DESC;FMTTYPE=text/html:<div class="xdj266r x11i5rnm xat24cr x1mh8g0r x1vvkbs" style="margin: 0px\; overflow-wrap: break-word\; font-family: &quot\;Segoe UI Historic&quot\;\, &quot\;Segoe UI&quot\;\, Helvetica\, Arial\, sans-serif\; color: rgb(8\, 8\, 9)\; font-size: 15px\;">You&#39\;re invited to a special ribbon-cutting ceremony for Dylan Jane&#39\;s Boutique!</div>\n\n<div class="x11i5rnm xat24cr x1mh8g0r x1vvkbs xtlvy1s" style="margin: 0.5em 0px 0px\; overflow-wrap: break-word\; font-family: &quot\;Segoe UI Historic&quot\;\, &quot\;Segoe UI&quot\;\, Helvetica\, Arial\, sans-serif\; color: rgb(8\, 8\, 9)\; font-size: 15px\;">Join us on July 31st at 2:00 PM at 104 E Church Ave\, Berryville\, AR\, on the public square\, as we celebrate this exciting new addition to our community.</div>\n\n<div class="x11i5rnm xat24cr x1mh8g0r x1vvkbs xtlvy1s" style="margin: 0.5em 0px 0px\; overflow-wrap: break-word\; font-family: &quot\;Segoe UI Historic&quot\;\, &quot\;Segoe UI&quot\;\, Helvetica\, Arial\, sans-serif\; color: rgb(8\, 8\, 9)\; font-size: 15px\;">Dylan Jane&#39\;s Boutique offers a fantastic selection of stylish women&rsquo\;s clothing and accessories. Come check out their collection and support a local business!</div>\n\n<div class="x11i5rnm xat24cr x1mh8g0r x1vvkbs xtlvy1s" style="margin: 0.5em 0px 0px\; overflow-wrap: break-word\; font-family: &quot\;Segoe UI Historic&quot\;\, &quot\;Segoe UI&quot\;\, Helvetica\, Arial\, sans-serif\; color: rgb(8\, 8\, 9)\; font-size: 15px\;">The Berryville Chamber of Commerce will be hosting this event\, and we&rsquo\;d love to see you there. Don&rsquo\;t miss out on the fun!</div>\n
LOCATION:104 E Church Ave\, Berryville\, AR
UID:e.2943.775
SEQUENCE:3
DTSTAMP:20260420T051439Z
URL:https://www.berryvillechamber.com/events/details/ribbon-cutting-dylan-jane-s-boutique-775
END:VEVENT

END:VCALENDAR
