BEGIN:VCALENDAR
VERSION:2.0
PRODID:-//ChamberMaster//Event Calendar 2.0//EN
METHOD:PUBLISH
X-PUBLISHED-TTL:P3D
REFRESH-INTERVAL:P3D
CALSCALE:GREGORIAN
BEGIN:VEVENT
DTSTART:20250417T210000Z
DTEND:20250417T213000Z
X-MICROSOFT-CDO-ALLDAYEVENT:FALSE
SUMMARY:Ribbon Cutting - Carroll County Farmers Market Association
DESCRIPTION:Join us for a Ribbon Cutting for the Carroll County Farmers Market Association! This event will coincide with the Farmers Market and Garden Expo. Be sure to make plans to attend!
X-ALT-DESC;FMTTYPE=text/html:<span style="color: rgb(8\, 8\, 9)\; font-family: &quot\;Segoe UI Historic&quot\;\, &quot\;Segoe UI&quot\;\, Helvetica\, Arial\, sans-serif\; font-size: 15px\;">Join us for a Ribbon Cutting for the Carroll County Farmers Market Association! This event will coincide with the Farmers Market and Garden Expo. Be sure to make plans to attend!</span>
LOCATION:Berryville Community Center Playground Parking Lot 601 Dr Spurlin Cir\, Berryville\, AR 72616
UID:e.2943.918
SEQUENCE:3
DTSTAMP:20260420T093931Z
URL:https://www.berryvillechamber.com/events/details/ribbon-cutting-carroll-county-farmers-market-association-918
END:VEVENT

END:VCALENDAR
