BEGIN:VCALENDAR
VERSION:2.0
PRODID:-//ChamberMaster//Event Calendar 2.0//EN
METHOD:PUBLISH
X-PUBLISHED-TTL:P3D
REFRESH-INTERVAL:P3D
CALSCALE:GREGORIAN
BEGIN:VEVENT
DTSTART:20241118T170000Z
DTEND:20241118T180000Z
X-MICROSOFT-CDO-ALLDAYEVENT:FALSE
SUMMARY:Ribbon Cutting - Bank of 1889 Drive Through
DESCRIPTION:Join us for the ribbon cutting for the new drive-through at Bank of 1889 in the Historic Square! The ribbon cutting will take place on Nov. 18 at 11:00am\n\nLocated at 305 Public Sq\, Berryville\, AR in the Berryville Square
X-ALT-DESC;FMTTYPE=text/html:<div class="xdj266r x11i5rnm xat24cr x1mh8g0r x1vvkbs" style="margin: 0px\; overflow-wrap: break-word\; font-family: &quot\;Segoe UI Historic&quot\;\, &quot\;Segoe UI&quot\;\, Helvetica\, Arial\, sans-serif\; color: rgb(8\, 8\, 9)\; font-size: 15px\;">Join us for the ribbon cutting for the new drive-through at Bank of 1889 in the Historic Square! The ribbon cutting will take place on Nov. 18 at 11:00am</div>\n\n<div class="x11i5rnm xat24cr x1mh8g0r x1vvkbs xtlvy1s" style="margin: 0.5em 0px 0px\; overflow-wrap: break-word\; font-family: &quot\;Segoe UI Historic&quot\;\, &quot\;Segoe UI&quot\;\, Helvetica\, Arial\, sans-serif\; color: rgb(8\, 8\, 9)\; font-size: 15px\;">Located at 305 Public Sq\, Berryville\, AR in the Berryville Square</div>\n
LOCATION:Located at 305 Public Sq\, Berryville\, AR in the Berryville Square
UID:e.2943.353
SEQUENCE:3
DTSTAMP:20260420T210202Z
URL:https://www.berryvillechamber.com/events/details/ribbon-cutting-bank-of-1889-drive-through-353
END:VEVENT

END:VCALENDAR
