BEGIN:VCALENDAR
VERSION:2.0
PRODID:-//ChamberMaster//Event Calendar 2.0//EN
METHOD:PUBLISH
X-PUBLISHED-TTL:P3D
REFRESH-INTERVAL:P3D
CALSCALE:GREGORIAN
BEGIN:VEVENT
DTSTART:20241025T220000Z
DTEND:20241025T230000Z
X-MICROSOFT-CDO-ALLDAYEVENT:FALSE
SUMMARY:Ribbon Cutting/After Hours -Town & Country Lanes/Strike Zone Grill REOPENING
DESCRIPTION:Ribbon Cutting/After Hours -Town & Country Lanes/Strike Zone Grill REOPENING
X-ALT-DESC;FMTTYPE=text/html:Ribbon Cutting/After Hours -Town &amp\; Country Lanes/Strike Zone Grill REOPENING
LOCATION:702 W. Trimble Ave\, Berryville\, AR 72616
UID:e.2943.344
SEQUENCE:3
DTSTAMP:20260420T223418Z
URL:https://www.berryvillechamber.com/events/details/ribbon-cutting-after-hours-town-country-lanes-strike-zone-grill-reopening-344
END:VEVENT

END:VCALENDAR
