BEGIN:VCALENDAR
VERSION:2.0
PRODID:-//ChamberMaster//Event Calendar 2.0//EN
METHOD:PUBLISH
X-PUBLISHED-TTL:P3D
REFRESH-INTERVAL:P3D
CALSCALE:GREGORIAN
BEGIN:VEVENT
DTSTART:20251014T150000Z
DTEND:20251014T160000Z
X-MICROSOFT-CDO-ALLDAYEVENT:FALSE
SUMMARY:Ribbon Cutting: 29:11 Healing & Recovery Center Detox + Residential Facility
DESCRIPTION:Grand Opening & Ribbon Cutting Celebration!\n\nJoin the Berryville Chamber of Commerce and the 29:11 Healing & Recovery Center as we celebrate the grand opening of their new Detox + Residential Facility!
X-ALT-DESC;FMTTYPE=text/html:<div class="xdj266r x14z9mp xat24cr x1lziwak x1vvkbs" style="overflow-wrap: break-word\; margin-inline: 0px\; margin-bottom: 0px\; margin-top: 0px\; font-family: &quot\;Segoe UI Historic&quot\;\, &quot\;Segoe UI&quot\;\, Helvetica\, Arial\, sans-serif\; color: rgb(8\, 8\, 9)\; font-size: 15px\;">\n<div class="xdj266r x14z9mp xat24cr x1lziwak x1vvkbs" style="overflow-wrap: break-word\; margin-inline: 0px\; margin-bottom: 0px\; margin-top: 0px\; font-family: &quot\;Segoe UI Historic&quot\;\, &quot\;Segoe UI&quot\;\, Helvetica\, Arial\, sans-serif\; color: rgb(8\, 8\, 9)\; font-size: 15px\;"><span style="color: rgb(8\, 8\, 9)\; font-family: &quot\;Segoe UI Historic&quot\;\, &quot\;Segoe UI&quot\;\, Helvetica\, Arial\, sans-serif\; font-size: 15px\;">Grand Opening &amp\; Ribbon Cutting Celebration!</span><br class="html-br" style="color: rgb(8\, 8\, 9)\; font-family: &quot\;Segoe UI Historic&quot\;\, &quot\;Segoe UI&quot\;\, Helvetica\, Arial\, sans-serif\; font-size: 15px\;" />\n<span style="color: rgb(8\, 8\, 9)\; font-family: &quot\;Segoe UI Historic&quot\;\, &quot\;Segoe UI&quot\;\, Helvetica\, Arial\, sans-serif\; font-size: 15px\;">Join the Berryville Chamber of Commerce and the 29:11 Healing &amp\; Recovery Center as we celebrate the grand opening of their new Detox + Residential Facility!</span></div>\n</div>\n
LOCATION:706 Park Street\, Berryville\, AR 72616
UID:e.2943.942
SEQUENCE:3
DTSTAMP:20260420T022408Z
URL:https://www.berryvillechamber.com/events/details/ribbon-cutting-29-11-healing-recovery-center-detox-residential-facility-942
END:VEVENT

END:VCALENDAR
