BEGIN:VCALENDAR
VERSION:2.0
PRODID:-//ChamberMaster//Event Calendar 2.0//EN
METHOD:PUBLISH
X-PUBLISHED-TTL:P3D
REFRESH-INTERVAL:P3D
CALSCALE:GREGORIAN
BEGIN:VEVENT
DTSTART:20250204T000000Z
DTEND:20250204T010000Z
X-MICROSOFT-CDO-ALLDAYEVENT:FALSE
SUMMARY:Play Auditions!
DESCRIPTION:Auditions for "And Miss Reardon Drinks a Little" by Paul Zindel\n\nProduction is being held by the Good Shepherd Humane Society & The Cause for Paws. \n\n \n\nRoles:\n\nFour Females (Ages - 35-50)\n\nOne Female (Age - 50-70)\n\nOne Male (Age - 17-25)\n\nOne Male (Age - 35-50)\n\n\n\n \n\n\nAuditions located at The AUD (36 S. Main St. Eureka Springs) on Feb. 2nd & 3rd at 6PM\n\n\n\n \n\n\nProduction details: Performances will be held at the theater above The Grotto.\n\nPerformance dates: March 27\, 28\, & 29\, 2025\n\nRehearsal schedule will be available at auditions.
X-ALT-DESC;FMTTYPE=text/html:Auditions for &ldquo\;And Miss Reardon Drinks a Little&rdquo\; by Paul Zindel<br />\nProduction is being held by the Good Shepherd Humane Society &amp\; The Cause for Paws.&nbsp\;<br />\n&nbsp\;\n<div>\n<p>Roles:<br />\nFour Females (Ages - 35-50)<br />\nOne Female (Age - 50-70)<br />\nOne Male (Age - 17-25)<br />\nOne Male (Age - 35-50)<br />\n<br />\n&nbsp\;</p>\n\n<div>\n<p>Auditions located at The AUD (36 S. Main St. Eureka Springs) on Feb. 2nd &amp\; 3rd at 6PM<br />\n<br />\n&nbsp\;</p>\n\n<div>\n<p>Production details: Performances will be held at the theater above The Grotto.<br />\nPerformance dates: March 27\, 28\, &amp\; 29\, 2025<br />\nRehearsal schedule will be available at auditions.</p>\n</div>\n</div>\n</div>\n
LOCATION:Auditions located at The AUD (36 S. Main St. Eureka Springs)
UID:e.2943.637
SEQUENCE:3
DTSTAMP:20260420T162450Z
URL:https://www.berryvillechamber.com/events/details/play-auditions-02-03-2025-637
END:VEVENT

END:VCALENDAR
