BEGIN:VCALENDAR
VERSION:2.0
PRODID:-//ChamberMaster//Event Calendar 2.0//EN
METHOD:PUBLISH
X-PUBLISHED-TTL:P3D
REFRESH-INTERVAL:P3D
CALSCALE:GREGORIAN
BEGIN:VEVENT
DTSTART:20240908T180000Z
DTEND:20240908T220000Z
X-MICROSOFT-CDO-ALLDAYEVENT:FALSE
SUMMARY:Patriot's Day Rib & Ride Car Show
DESCRIPTION:Ribs and Rides Patriot Day Car Show:  13 Buckskin Lane\, Holiday Island\, AR  sponsored by  Holiday Island Chamber of Commerce.  Categories include Trophies for:  Hi Chamber Choice\, First Responders People's Choice\, Veteran's Choice\, Classic (1st\, 2nd\, 3rd) Modern (1st\, 2nd\, 3rd) and BEST IN SHOW Trophy.\n\n \n\nRegistration:  $20 at the site Sept 8\n\n\n\nIn connection with Ribs & Rides Patriot Day Sanctioned BBQ Rib Cook-off sponsored by Rib Cook-Off around the corner  at 120 Shields Drive\, Holiday island.\n\n \n\n Vendors Booth  -$40 - register with Tracci - 479-222-7142 \n\nLive Music\, Kiddies Korral\,  Face Painting\, American Legion Presentation of  Colors 3 pm\n\nhttps://www.facebook.com/HolidayIslandChamber/
X-ALT-DESC;FMTTYPE=text/html:<span style="color:#333333"><span style="font-family:arial\,sans-serif"><span style="font-size:10.0pt">Ribs and Rides Patriot Day Car Show:&nbsp\; 13 Buckskin Lane\, Holiday Island\, AR&nbsp\; sponsored by &nbsp\;Holiday Island Chamber of Commerce.&nbsp\; Categories include Trophies for:&nbsp\; Hi Chamber Choice\, First Responders People&rsquo\;s Choice\, Veteran&rsquo\;s Choice\, Classic (1<sup>st</sup>\, 2nd\, 3rd) Modern (1<sup>st</sup>\, 2nd\, 3rd) and BEST IN SHOW Trophy.</span></span></span><br />\n&nbsp\;<br />\n<span style="color:#333333"><span style="font-family:arial\,sans-serif"><span style="font-size:10.0pt">Registration:&nbsp\; $20 at the site Sept 8</span></span></span><br />\n<br />\n<span style="color:#333333"><span style="font-family:arial\,sans-serif"><span style="font-size:10.0pt">In connection with Ribs &amp\; Rides Patriot Day Sanctioned BBQ Rib Cook-off sponsored by Rib Cook-Off around the corner&nbsp\; at 120 Shields Drive\, Holiday island.</span></span></span><br />\n&nbsp\;<br />\n<span style="color:#333333"><span style="font-family:arial\,sans-serif"><span style="font-size:10.0pt">&nbsp\;Vendors Booth&nbsp\; -$40 - register with Tracci - 479-222-7142 </span></span></span><br />\n<span style="color:#333333"><span style="font-family:arial\,sans-serif"><span style="font-size:10.0pt">Live Music\, Kiddies Korral\,&nbsp\; Face Painting\, American Legion Presentation of&nbsp\; Colors 3 pm</span></span></span><br />\n<a href="https://www.facebook.com/HolidayIslandChamber/"><span style="font-family:arial\,sans-serif"><span style="font-size:10.0pt">https://www.facebook.com/HolidayIslandChamber/</span></span></a>
LOCATION:13 Buckskin Drive\, Holiday Island\, AR In connection with Ribs & Rides Patriot Day Sanctioned BBQ Rib Cook-off sponsored by Rib Cook-Off around the corner at 120 Shields Drive\, Holiday island.
UID:e.2943.330
SEQUENCE:3
DTSTAMP:20260421T001427Z
URL:https://www.berryvillechamber.com/events/details/patriot-s-day-rib-ride-car-show-330
END:VEVENT

END:VCALENDAR
