BEGIN:VCALENDAR
VERSION:2.0
PRODID:-//ChamberMaster//Event Calendar 2.0//EN
METHOD:PUBLISH
X-PUBLISHED-TTL:P3D
REFRESH-INTERVAL:P3D
CALSCALE:GREGORIAN
BEGIN:VEVENT
DTSTART:20241015T210000Z
DTEND:20241015T230000Z
X-MICROSOFT-CDO-ALLDAYEVENT:FALSE
SUMMARY:Park Cleanup Drive
DESCRIPTION:Join the City of Berryville for a Park Cleanup Drive on Oct. 15 from 4-6 pm to help keep our park clean and beautiful. \n\n\n\n*Rain date Oct. 22*
X-ALT-DESC;FMTTYPE=text/html:Join the City of Berryville for a Park Cleanup Drive on Oct. 15 from 4-6 pm to help keep our park clean and beautiful.&nbsp\;<br />\n<br />\n*Rain date Oct. 22*
LOCATION:City Pool Park
UID:e.2943.348
SEQUENCE:3
DTSTAMP:20260420T222719Z
URL:https://www.berryvillechamber.com/events/details/park-cleanup-drive-348
END:VEVENT

END:VCALENDAR
