BEGIN:VCALENDAR
VERSION:2.0
PRODID:-//ChamberMaster//Event Calendar 2.0//EN
METHOD:PUBLISH
X-PUBLISHED-TTL:P3D
REFRESH-INTERVAL:P3D
CALSCALE:GREGORIAN
BEGIN:VEVENT
DTSTART:20250501T160000Z
DTEND:20250501T180000Z
X-MICROSOFT-CDO-ALLDAYEVENT:FALSE
SUMMARY:Northark Town Hall to Discuss Potential University of Arkansas Affiliation
DESCRIPTION:North Arkansas College (Northark) is exploring a potential affiliation with the University of Arkansas System. This decision will follow a thorough evaluation of opportunities that could enhance educational offerings\, expand resources\, and strengthen institutional support.\n\nAs part of this process\, Northark will host a Community Town Hall to engage with the public\, provide transparency\, and gather input on this significant decision. The Community Town Hall will be held on Thursday\, May 1\, from 11-1 PM at the Berryville Community Center Banquet Hall located at 601 Dr Spurlin Circle in Berryville. Students\, faculty\, staff\, parents\, alumni\, and all members of the community are encouraged to attend. Lunch will be provided.
X-ALT-DESC;FMTTYPE=text/html:<p class="mcepastedcontent1"><span style="font-size:15.0pt\;line-height:150%\;\nfont-family:&quot\;Arial&quot\;\,sans-serif\;color:#080809\;background:white">North Arkansas College (Northark) is exploring a potential affiliation with the University of Arkansas System. This decision will follow a thorough evaluation of opportunities that could enhance educational offerings\, expand resources\, and strengthen institutional support.</span><o:p></o:p></p>\n\n<p class="mcepastedcontent1"><span style="font-size:15.0pt\;line-height:150%\;\nfont-family:&quot\;Arial&quot\;\,sans-serif\;color:#080809\;background:white">As part of this process\, Northark will host a Community Town Hall to engage with the public\, provide transparency\, and gather input on this significant decision. The Community Town Hall will be held on Thursday\, May 1\, from 11-1 PM at the Berryville Community Center Banquet Hall located at 601 Dr Spurlin Circle in Berryville. Students\, faculty\, staff\, parents\, alumni\, and all members of the community are encouraged to attend. Lunch will be provided.</span><o:p></o:p></p>\n
LOCATION:
UID:e.2943.928
SEQUENCE:3
DTSTAMP:20260420T081045Z
URL:https://www.berryvillechamber.com/events/details/northark-town-hall-to-discuss-potential-university-of-arkansas-affiliation-928
END:VEVENT

END:VCALENDAR
