BEGIN:VCALENDAR
VERSION:2.0
PRODID:-//ChamberMaster//Event Calendar 2.0//EN
METHOD:PUBLISH
X-PUBLISHED-TTL:P3D
REFRESH-INTERVAL:P3D
CALSCALE:GREGORIAN
BEGIN:VEVENT
DTSTART:20250428T150000Z
DTEND:20250428T170000Z
X-MICROSOFT-CDO-ALLDAYEVENT:FALSE
SUMMARY:Messer Welcome Celebration
DESCRIPTION:Hope you can join us for the Messer Welcome Celebration !\n\n\n\nThe City of Berryville is proud to welcome Messer\, a global leader in industrial gases\, as they break ground on a new state-of-the-art Air Separation Unit (ASU) right here in our community. A private groundbreaking ceremony will take place earlier that morning\, followed by this PUBLIC Welcome Celebration\, where community members are encouraged to attend and show their support.\n\n\n\nMonday\, April 28\n\nDoors open at 10:00 AM | Program begins at 10:15 AM\n\nBerryville Community Center - Banquet Hall\n\nCasual attire is welcome! Come as you are.\n\n\n\nLight refreshments will be provided\n\n\n\nLet's come together to celebrate this milestone for our town!
X-ALT-DESC;FMTTYPE=text/html:<div class="xdj266r x11i5rnm xat24cr x1mh8g0r x1vvkbs x126k92a" style="margin: 0px\; overflow-wrap: break-word\; white-space-collapse: preserve\; font-family: &quot\;Segoe UI Historic&quot\;\, &quot\;Segoe UI&quot\;\, Helvetica\, Arial\, sans-serif\; color: rgb(8\, 8\, 9)\; font-size: 15px\;">\n<div dir="auto" style="font-family: inherit\;">Hope you can join us for the <span class="html-span xdj266r x11i5rnm xat24cr x1mh8g0r xexx8yu x4uap5 x18d9i69 xkhd6sd x1hl2dhg x16tdsg8 x1vvkbs" style="margin: 0px\; text-align: inherit\; overflow-wrap: break-word\; padding: 0px\; font-family: inherit\;"><a attributionsrc="/privacy_sandbox/comet/register/source/?xt=AZX9C5W5uTI9Hc7lpYYQGahZRDyN3updcgFvOENQkO9J7Ue5InANYrJQvBoLZtEQ-uN2QSs-1DyvWMuVA5Z-xV7qp5pbdO1b7xaTzRlT9aZQe2TvFQpOY0yrYdqHoRxNlEtLAM8onpgWg7PQWIDYa17Vv_IELhnQigY_pBmC5Z4eXiWcVhjUsBgnJ25C7UkfOOyXW3Ty-33Qe4LWL_0sPVe0LNRxL4RZWXSHquHAtDn33MOVaC_BZA9t8P9nEUmK1pIyQWdV2crzMVqqSRnI-6BS0hNzuVSv6xm_wQ-73_7k8NNhtaMty-5OjxemnhA9E3njEmNIRb7hpaAc4u8lgTu759AU2cYzzNB3-IWueCAZjNv1LZ0-RiN0ZbnBZPl-U-0zJ3fjveUDrIyw0ACW6UuDz3qdLs5Jv_a8ut6eswG9hxv939iSXm6ThelcXJNVIfjM3dVQDef7s0LLQq4aNvYLSWbPjn3TrNfbXhbBx9gVcvLq0Vjdy3ZOiYR-b1N9u1jZqMXalZO_Owg0OXMn5j2wCX7anVChLb-F_ErAcID9wuQ9or0s_ee2HWFsQVsd7Nj38WO_j1t0F0NOoB6LBqtJVNvtcXobp6XvZK12xSM2qSAOZg0HYqz2CcvippuHBJWpMJSv53AMwmyG4VrxNtat7on53y9ss7ovgUXa_cz7xeRs5xZyw6F0FQb0t7ma31IQEBdg-0Z-ghf4m9Kip0Wa7EM1rJ6oc8ix94WkdnvnfA2nrG5r3GJnT5STPRYzhLJF1J-4FvzsdkieCKB8rATl2STWQehWAoyIeDhEZwDb4Hzz3xWwZO-6MYzOYWaWjZylnw5w1fiJxJDsXue541mwXVVEw0srugw9Ju2lOb417DaemGXSYB7aadDuNgDhTAlvOofEsDHAB0-TYVr150PebJbG9tgx0YzK72xNe5bj9Bz_Sga0LZtvzwUDRnGs6-sUNXR--qZKUyJHheeuJmNQxpB91Pw5zAWB47n-lEuj85Hmme_2t0LTrCuWHk_o5fP9RDhGuxgk0nrk5ePv-b32CKvT2RaDUepTDPbuY-ojK1oVjB1EV0bmzXjge3H116QBZf7CAIuY5kAnWba2zw4oQXbNys8MSsCu6pAIvpOy_abmt-7Cfo47UUPlT4BjH9KsoR9ZKEkPtS2Wr6Hz_WQ7OsH_DqnhrkRPAynltOmEIJDieksGpow13Ca_wuuDh66ownw-YQGL7o4wBa_JX2cD7aQL758OsKkgv2osJrqnkzOGG_zQL9D650q1p6ZgjsXdBDP-pyf1hndj6gDF2K8wKSVWwHzgvMfxDR-HBftims_U7jBwqpKHqfpLFmmRpzM" class="x1i10hfl xjbqb8w x1ejq31n xd10rxx x1sy0etr x17r0tee x972fbf xcfux6l x1qhh985 xm0m39n x9f619 x1ypdohk xt0psk2 xe8uvvx xdj266r x11i5rnm xat24cr x1mh8g0r xexx8yu x4uap5 x18d9i69 xkhd6sd x16tdsg8 x1hl2dhg xggy1nq x1a2a7pz xkrqix3 x1sur9pj x1fey0fg x1s688f" href="https://www.facebook.com/events/1189194816184667/?__cft__[0]=AZWb39ibh-Vkh3wajRYdysttmd4nEr_TL58reyzs3xWuHVko9psq-avNggEKQPK5S-LuOQ2_hGmRMTHvztV1okMP9p73iFHt482NWrxMFPOzkotcT1QymtnDG8Izvw4rVH3LfcuEgsKQpatXGx13Q5fyZdDclUCjINGflceFjlgAyNq2mDktbqkxYeS8HXLBaDY&amp\;__tn__=-UK-R" role="link" style="color: rgb(0\, 100\, 209)\; cursor: pointer\; text-decoration-line: none\; list-style: none\; margin: 0px\; text-align: inherit\; border-style: none\; padding: 0px\; box-sizing: border-box\; border-width: 0px\; outline: none\; -webkit-tap-highlight-color: transparent\; font-weight: 600\; touch-action: manipulation\; background-color: transparent\; display: inline\; font-family: inherit\;" tabindex="0"><span class="xt0psk2" style="display: inline\; font-family: inherit\;">Messer Welcome Celebration </span></a></span>!</div>\n</div>\n\n<div class="x11i5rnm xat24cr x1mh8g0r x1vvkbs xtlvy1s x126k92a" style="margin: 0.5em 0px 0px\; overflow-wrap: break-word\; white-space-collapse: preserve\; font-family: &quot\;Segoe UI Historic&quot\;\, &quot\;Segoe UI&quot\;\, Helvetica\, Arial\, sans-serif\; color: rgb(8\, 8\, 9)\; font-size: 15px\;">\n<div dir="auto" style="font-family: inherit\;">The City of Berryville is proud to welcome Messer\, a global leader in industrial gases\, as they break ground on a new state-of-the-art Air Separation Unit (ASU) right here in our community. A private groundbreaking ceremony will take place earlier that morning\, followed by this PUBLIC Welcome Celebration\, where community members are encouraged to attend and show their support.</div>\n</div>\n\n<div class="x11i5rnm xat24cr x1mh8g0r x1vvkbs xtlvy1s x126k92a" style="margin: 0.5em 0px 0px\; overflow-wrap: break-word\; white-space-collapse: preserve\; font-family: &quot\;Segoe UI Historic&quot\;\, &quot\;Segoe UI&quot\;\, Helvetica\, Arial\, sans-serif\; color: rgb(8\, 8\, 9)\; font-size: 15px\;">\n<div dir="auto" style="font-family: inherit\;">Monday\, April 28</div>\n\n<div dir="auto" style="font-family: inherit\;">Doors open at 10:00 AM | Program begins at 10:15 AM</div>\n\n<div dir="auto" style="font-family: inherit\;">Berryville Community Center - Banquet Hall</div>\n\n<div dir="auto" style="font-family: inherit\;">Casual attire is welcome! Come as you are.</div>\n</div>\n\n<div class="x11i5rnm xat24cr x1mh8g0r x1vvkbs xtlvy1s x126k92a" style="margin: 0.5em 0px 0px\; overflow-wrap: break-word\; white-space-collapse: preserve\; font-family: &quot\;Segoe UI Historic&quot\;\, &quot\;Segoe UI&quot\;\, Helvetica\, Arial\, sans-serif\; color: rgb(8\, 8\, 9)\; font-size: 15px\;">\n<div dir="auto" style="font-family: inherit\;">Light refreshments will be provided</div>\n</div>\n\n<div class="x11i5rnm xat24cr x1mh8g0r x1vvkbs xtlvy1s x126k92a" style="margin: 0.5em 0px 0px\; overflow-wrap: break-word\; white-space-collapse: preserve\; font-family: &quot\;Segoe UI Historic&quot\;\, &quot\;Segoe UI&quot\;\, Helvetica\, Arial\, sans-serif\; color: rgb(8\, 8\, 9)\; font-size: 15px\;">\n<div dir="auto" style="font-family: inherit\;">Let&rsquo\;s come together to celebrate this milestone for our town!</div>\n</div>\n
LOCATION:Berryville Community Center - Banquet Hall
UID:e.2943.925
SEQUENCE:3
DTSTAMP:20260420T093048Z
URL:https://www.berryvillechamber.com/events/details/messer-welcome-celebration-925
END:VEVENT

END:VCALENDAR
