BEGIN:VCALENDAR
VERSION:2.0
PRODID:-//ChamberMaster//Event Calendar 2.0//EN
METHOD:PUBLISH
X-PUBLISHED-TTL:P3D
REFRESH-INTERVAL:P3D
CALSCALE:GREGORIAN
BEGIN:VEVENT
DTSTART:20250828T170000Z
DTEND:20250828T190000Z
X-MICROSOFT-CDO-ALLDAYEVENT:FALSE
SUMMARY:Luncheon with AR Secretary of State: Cole Jester
DESCRIPTION:Berryville Chamber of Commerce Luncheon\n\nFeaturing Arkansas Secretary of State Cole Jester\n\nFundraiser hosted by the Berryville Chamber of Commerce\n\nSponsored by Kinetic\n\nLunch: Italian-style meal catered by Carroll County Country Club with Delectable Desserts from Farmer in the Deli. \n \n\n   Why Attend?\n\n\n	\n	Support the Berryville Chamber of Commerce through this important fundraiser\n	\n	\n	Engage with Secretary Jester on initiatives affecting Arkansas governance\n	\n	\n	Network with local business and community leaders \n\n	 \n	\n\n\nAbout Cole Jester\n\nArkansas's 35th Secretary of State\, Cole Jester\, took office on January 1\, 2025\, following his appointment by Governor Sarah Huckabee Sanders. Prior to his service in the Governor's Office\, Jester worked for the U.S. Court of Appeals for the Eighth Circuit and clerked at the University of Virginia School of Law\, including roles at Friday\, Eldridge & Clark\, the U.S. Air Force\, and argued criminal cases in Virginia district court. He also served as Managing Editor of The Journal of Law and Politics. \n\n\n\n  RSVP & Tickets\n\nSecure your spot soon spaces are limited!\n\n\n	\n	Chamber members: $25\n	\n	\n	Non-members: $35\n	\n\n\nTickets include:\n\n  Italian lunch from Carroll County Country Club\n\n  Access to a Q&A with Secretary Jester\n\n  Support for Berryville's business community initiatives\n\n\n\nFor tickets\, register online through the Chamber website: Berryvillechamber.com/events.\n\n\n\nFor more info\, please contact the Berryville Chamber of Commerce at info@berryvillechamber.com or by phone 479-422-5155 (Ashley Hinton\, Exec. Director).
X-ALT-DESC;FMTTYPE=text/html:<h2 data-end="92" data-start="44">Berryville Chamber of Commerce Luncheon</h2>\n\n<p data-end="235" data-start="93"><strong data-end="146" data-start="93">Featuring Arkansas Secretary of State Cole Jester</strong><br data-end="149" data-start="146" />\n<strong data-end="208" data-start="149">Fundraiser hosted by the Berryville Chamber of Commerce</strong><br data-end="211" data-start="208" />\n<strong data-end="235" data-start="211">Sponsored by Kinetic</strong></p>\n\n<h2 data-end="92" data-start="44"><strong data-end="428" data-start="418">Lunch:</strong> Italian-style meal catered by Carroll County Country Club with Delectable Desserts from Farmer in the Deli.&nbsp\;</h2>\n&nbsp\;\n\n<h3 data-end="1203" data-start="1182">&#127903\;&#65039\; Why Attend?</h3>\n\n<ul data-end="1464" data-start="1204">\n	<li data-end="1288" data-start="1204">\n	<p data-end="1288" data-start="1206"><strong data-end="1217" data-start="1206">Support</strong> the Berryville Chamber of Commerce through this important fundraiser</p>\n	</li>\n	<li data-end="1370" data-start="1289">\n	<p data-end="1370" data-start="1291"><strong data-end="1301" data-start="1291">Engage</strong> with Secretary Jester on initiatives affecting Arkansas governance</p>\n	</li>\n	<li data-end="1464" data-start="1371">\n	<p data-end="1464" data-start="1373"><strong data-end="1384" data-start="1373">Network</strong> with local business and community leaders&nbsp\;<br />\n	&nbsp\;</p>\n	</li>\n</ul>\n\n<h3 data-end="617" data-start="591">About Cole Jester</h3>\n\n<p data-end="771" data-start="618"><span class="relative -mx-px my-[-0.2rem] rounded px-px py-[0.2rem] transition-colors duration-100 ease-in-out">Arkansas&rsquo\;s 35th Secretary of State\, Cole Jester\, took office on <strong data-end="83" data-start="64">January 1\, 2025</strong>\, following his appointment by Governor Sarah Huckabee Sanders.&nbsp\;</span>Prior to his service in the Governor&rsquo\;s Office\, Jester worked for the U.S. Court of Appeals for the Eighth Circuit and clerked at the University of Virginia School of Law\, including roles at Friday\, Eldridge &amp\; Clark\, the U.S. Air Force\, and argued criminal cases in Virginia district court. He also served as Managing Editor of <em data-end="360" data-is-last-node="" data-start="327">The Journal of Law and Politics.&nbsp\;</em><br />\n<br />\n&#9989\; RSVP &amp\; Tickets</p>\n\n<p data-end="1537" data-start="1494">Secure your spot soon&mdash\;spaces are limited!</p>\n\n<ul data-end="1589" data-start="1538">\n	<li data-end="1566" data-start="1538">\n	<p data-end="1566" data-start="1540">Chamber members: <strong data-end="1564" data-start="1557">$25</strong></p>\n	</li>\n	<li data-end="1589" data-start="1567">\n	<p data-end="1589" data-start="1569">Non-members: <strong data-end="1589" data-start="1582">$35</strong></p>\n	</li>\n</ul>\n\n<p data-end="1766" data-start="1591"><strong data-end="1611" data-start="1591">Tickets include:</strong><br data-end="1614" data-start="1611" />\n&bull\; Italian lunch from Carroll County Country Club<br data-end="1665" data-start="1662" />\n&bull\; Access to a Q&amp\;A with Secretary Jester<br data-end="1707" data-start="1704" />\n&bull\; Support for Berryville&rsquo\;s business community initiatives<br />\n<br />\nFor tickets\,&nbsp\;register online through the Chamber website: Berryvillechamber.com/events.<br />\n<br />\nFor more info\, please contact the Berryville Chamber of Commerce at info@berryvillechamber.com or by phone 479-422-5155 (Ashley Hinton\, Exec. Director).&nbsp\;</p>\n
LOCATION:Location: Carroll Electric Community Room 920 US 62 Spur\, Berryville\, AR 72616
UID:e.2943.932
SEQUENCE:3
DTSTAMP:20260420T051607Z
URL:https://www.berryvillechamber.com/events/details/luncheon-with-ar-secretary-of-state-cole-jester-932
END:VEVENT

END:VCALENDAR
