BEGIN:VCALENDAR
VERSION:2.0
PRODID:-//ChamberMaster//Event Calendar 2.0//EN
METHOD:PUBLISH
X-PUBLISHED-TTL:P3D
REFRESH-INTERVAL:P3D
CALSCALE:GREGORIAN
BEGIN:VEVENT
DTSTART:20241206T000000Z
DTEND:20241206T030000Z
X-MICROSOFT-CDO-ALLDAYEVENT:FALSE
SUMMARY:Jingle Mingle
DESCRIPTION:Jingle Mingle is an annual gathering which offers scholarship recipients and supporters a chance to mix and mingle and to cap off the end of the year. Jingle Mingle also serves as a fundraiser at which many individuals make their end-of-year gifts to support scholarships.
X-ALT-DESC;FMTTYPE=text/html:Jingle Mingle is an annual gathering which offers scholarship recipients and supporters a chance to mix and mingle and to cap off the end of the year. Jingle Mingle also serves as a fundraiser at which many individuals make their end-of-year gifts to support scholarships.
LOCATION:Heroncrest 1579 E Lake Rd\, Elm Springs\, AR 72762
UID:e.2943.327
SEQUENCE:3
DTSTAMP:20260420T191835Z
URL:https://www.berryvillechamber.com/events/details/jingle-mingle-327
END:VEVENT

END:VCALENDAR
