BEGIN:VCALENDAR
VERSION:2.0
PRODID:-//ChamberMaster//Event Calendar 2.0//EN
METHOD:PUBLISH
X-PUBLISHED-TTL:P3D
REFRESH-INTERVAL:P3D
CALSCALE:GREGORIAN
BEGIN:VEVENT
DTSTART:20250614T140000Z
DTEND:20250614T150000Z
X-MICROSOFT-CDO-ALLDAYEVENT:FALSE
SUMMARY:Ice Cream Social 5K
DESCRIPTION:5K walk/run benefiting Grandma's House CAC which serves Carroll Counties child abuse victims. Race will be timed and medals awarded for male/female 1st place in several age categories.
X-ALT-DESC;FMTTYPE=text/html:5K walk/run benefiting Grandma&#39\;s House CAC which serves Carroll Counties child abuse victims. Race will be timed and medals awarded for male/female 1st place in several age categories.
LOCATION:201 Public Square\, Berryville\, AR
UID:e.2943.922
SEQUENCE:3
DTSTAMP:20260420T064241Z
URL:https://www.berryvillechamber.com/events/details/ice-cream-social-5k-06-14-2025-922
END:VEVENT

END:VCALENDAR
