BEGIN:VCALENDAR
VERSION:2.0
PRODID:-//ChamberMaster//Event Calendar 2.0//EN
METHOD:PUBLISH
X-PUBLISHED-TTL:P3D
REFRESH-INTERVAL:P3D
CALSCALE:GREGORIAN
BEGIN:VEVENT
DTSTART:20241208T000000Z
DTEND:20241208T020000Z
X-MICROSOFT-CDO-ALLDAYEVENT:FALSE
SUMMARY:Hometown Heroes 2024 Berryville Christmas Parade
DESCRIPTION:The parade begins at Anstaff Bank and will end at the Berryville Community Center.\n\n\n\nThe Community Center will host refreshments at the end of the parade\; come inside and warm up with some hot chocolate or apple cider and cookies and popcorn. Santa will be there handing out presents to each child!\n\n\n\nSign up to be in the parade at the Berrycille Community Center
X-ALT-DESC;FMTTYPE=text/html:<span style="color: rgb(8\, 8\, 9)\; font-family: &quot\;Segoe UI Historic&quot\;\, &quot\;Segoe UI&quot\;\, Helvetica\, Arial\, sans-serif\; font-size: 15px\;">The parade begins at Anstaff Bank and will end at the Berryville Community Center.</span><br />\n<br class="html-br" style="color: rgb(8\, 8\, 9)\; font-family: &quot\;Segoe UI Historic&quot\;\, &quot\;Segoe UI&quot\;\, Helvetica\, Arial\, sans-serif\; font-size: 15px\;" />\n<span style="color: rgb(8\, 8\, 9)\; font-family: &quot\;Segoe UI Historic&quot\;\, &quot\;Segoe UI&quot\;\, Helvetica\, Arial\, sans-serif\; font-size: 15px\;">The Community Center will host refreshments at the end of the parade\; come inside and warm up with some hot chocolate or apple cider and cookies and popcorn. Santa will be there handing out presents to each child!<br />\n<br />\nSign up to be in the parade at the Berrycille Community Center</span>
LOCATION:Berryville\, AR
UID:e.2943.352
SEQUENCE:3
DTSTAMP:20260420T192401Z
URL:https://www.berryvillechamber.com/events/details/hometown-heroes-2024-berryville-christmas-parade-352
END:VEVENT

END:VCALENDAR
