BEGIN:VCALENDAR
VERSION:2.0
PRODID:-//ChamberMaster//Event Calendar 2.0//EN
METHOD:PUBLISH
X-PUBLISHED-TTL:P3D
REFRESH-INTERVAL:P3D
CALSCALE:GREGORIAN
BEGIN:VEVENT
DTSTART:20241214T160000Z
DTEND:20241214T200000Z
X-MICROSOFT-CDO-ALLDAYEVENT:FALSE
SUMMARY:Holiday Open House & Merry Sale
DESCRIPTION:Hardcastle Folk Art & The Back Porch will be hosting the Holiday Open House & Very Merry Sale. Door Prizes\, shopping\, cookies\, apple cider. Stop in to make a special handmade Christmas gift.
X-ALT-DESC;FMTTYPE=text/html:Hardcastle Folk Art &amp\; The Back Porch will be hosting the Holiday Open House &amp\; Very Merry Sale. Door Prizes\, shopping\, cookies\, apple cider. Stop in to make a special handmade Christmas gift.&nbsp\;
LOCATION:Berryville Public Square Hardcastle Folk Art and The Back Porch
UID:e.2943.361
SEQUENCE:3
DTSTAMP:20260420T192142Z
URL:https://www.berryvillechamber.com/events/details/holiday-open-house-merry-sale-361
END:VEVENT

END:VCALENDAR
