BEGIN:VCALENDAR
VERSION:2.0
PRODID:-//ChamberMaster//Event Calendar 2.0//EN
METHOD:PUBLISH
X-PUBLISHED-TTL:P3D
REFRESH-INTERVAL:P3D
CALSCALE:GREGORIAN
BEGIN:VEVENT
DTSTART:20250208T160000Z
DTEND:20250208T220000Z
X-MICROSOFT-CDO-ALLDAYEVENT:FALSE
SUMMARY:Health & Fitness Expo.
DESCRIPTION:The Berryville Community Center is partnering with local businesses to highlight the importance of living a healthy and active lifestyle.\n\nThis free event will take place in our Banquet Hall and is open to the public!\n\nIn our kitchen\, Poncho Goldstein's Irish Pub will be offering farm-fresh\, locally sourced foods. They will also host a silent auction and raffle to raise funds for new fitness equipment.\n\nDon't miss this opportunity to connect with your community and support a great cause!
X-ALT-DESC;FMTTYPE=text/html:<p>The Berryville Community Center is partnering with local businesses to highlight the importance of living a healthy and active lifestyle.</p>\n\n<p>This free event will take place in our Banquet Hall and is open to the public!</p>\n\n<p>In our kitchen\, Poncho Goldstein&#39\;s Irish Pub will be offering farm-fresh\, locally sourced foods. They will also host a silent auction and raffle to raise funds for new fitness equipment.</p>\n\n<p>Don&rsquo\;t miss this opportunity to connect with your community and support a great cause!</p>\n
LOCATION:Berryville Community Center Banquet Hall
UID:e.2943.370
SEQUENCE:3
DTSTAMP:20260420T163103Z
URL:https://www.berryvillechamber.com/events/details/health-fitness-expo-370
END:VEVENT

END:VCALENDAR
