BEGIN:VCALENDAR
VERSION:2.0
PRODID:-//ChamberMaster//Event Calendar 2.0//EN
METHOD:PUBLISH
X-PUBLISHED-TTL:P3D
REFRESH-INTERVAL:P3D
CALSCALE:GREGORIAN
BEGIN:VEVENT
DTSTART:20241018T220000Z
DTEND:20241019T020000Z
X-MICROSOFT-CDO-ALLDAYEVENT:FALSE
SUMMARY:Haunted Hay Ride
DESCRIPTION:Narrated hayride around the island in Holiday Island to The Barn for activities for adults and kids - line dancing\, face painting\, live music\, food sales then smores by bondfires with scary stories.
X-ALT-DESC;FMTTYPE=text/html:Narrated hayride around the island in Holiday Island to The Barn for activities for adults and kids - line dancing\, face painting\, live music\, food sales then smores by bondfires with scary stories.&nbsp\;
LOCATION:110 Woodsdale Drive\, Holiday Island AR 72631
UID:e.2943.341
SEQUENCE:3
DTSTAMP:20260420T222650Z
URL:https://www.berryvillechamber.com/events/details/haunted-hay-ride-341
END:VEVENT

END:VCALENDAR
