BEGIN:VCALENDAR
VERSION:2.0
PRODID:-//ChamberMaster//Event Calendar 2.0//EN
METHOD:PUBLISH
X-PUBLISHED-TTL:P3D
REFRESH-INTERVAL:P3D
CALSCALE:GREGORIAN
BEGIN:VEVENT
DTSTART;VALUE=DATE:20241005
DTEND;VALUE=DATE:20241021
TRANSP:TRANSPARENT
X-MICROSOFT-CDO-ALLDAYEVENT:TRUE
SUMMARY:Golftoberfest
DESCRIPTION:Golftoberfest is NWA's ORIGINAL Mini-Golf Tourney! Golftoberfest is a family-friendly event where SPSFNWA recipients and their families are also invited to participate. Golftoberfest is a great way to encourage your family\, friends\, and co-workers to get out and play for a good cause. Held at Gator Golf in Fayetteville and Golf Mountain in Lowell\, this two-week event gives you the opportunity to go play at a time of your choosing! Corporate sponsorships ARE still available! Contact Steven Hinds\, Senior Director of Major Gifts\, at 479.254.8550 ext. 103 or steven@spsfnwa.org.
X-ALT-DESC;FMTTYPE=text/html:Golftoberfest is NWA&rsquo\;s ORIGINAL Mini-Golf Tourney! Golftoberfest is a family-friendly event where SPSFNWA recipients and their families are also invited to participate. Golftoberfest is a great way to encourage your family\, friends\, and co-workers to get out and play for a good cause. Held at Gator Golf in Fayetteville and Golf Mountain in Lowell\, this two-week event gives you the opportunity to go play at a time of your choosing! Corporate sponsorships ARE still available! Contact Steven Hinds\, Senior Director of Major Gifts\, at 479.254.8550 ext. 103 or steven@spsfnwa.org.
LOCATION:Gator Golf in Fayetteville 2692 N College Ave\, Fayetteville\, AR 72703 Golf Mountain in Lowell 1115 N Dixieland St\, Lowell\, AR 72745
UID:e.2943.326
SEQUENCE:3
DTSTAMP:20260420T222649Z
URL:https://www.berryvillechamber.com/events/details/golftoberfest-326
END:VEVENT

END:VCALENDAR
