BEGIN:VCALENDAR
VERSION:2.0
PRODID:-//ChamberMaster//Event Calendar 2.0//EN
METHOD:PUBLISH
X-PUBLISHED-TTL:P3D
REFRESH-INTERVAL:P3D
CALSCALE:GREGORIAN
BEGIN:VEVENT
DTSTART:20250410T230000Z
DTEND:20250411T020000Z
X-MICROSOFT-CDO-ALLDAYEVENT:FALSE
SUMMARY:Goddess Gala
DESCRIPTION:The annual women's Gourmet Goddess Gala and Blessing of the Seeds festival featuring dancing\, feasting\, and drumming will be held again this year at the Ballroom of the Historic Basin Park Hotel in Downtown Eureka Springs\, AR.\n\n\n\nAll proceeds go to The Merlin Foundation. \n\nAdvanced tickets: $14\n\nNight of the event at the door: $20\n\n\n\nWomen only event.
X-ALT-DESC;FMTTYPE=text/html:<p>The annual women&rsquo\;s Gourmet Goddess Gala and Blessing of the Seeds festival featuring dancing\, feasting\, and drumming&nbsp\;will be held again this year at the Ballroom of the&nbsp\;<a href="https://goo.gl/maps/cY4Fhkhwbtm" style="box-sizing: inherit\; font-family: inherit\; font-weight: inherit\; font-style: inherit\; margin: 0px\; padding: 0px\; vertical-align: baseline\; border: 0px\; outline: 0px\; color: rgb(71\, 116\, 116)\; text-decoration-line: none\;">Historic Basin Park Hotel in Downtown Eureka Springs\, AR</a>.<br />\n<br />\nAll proceeds go to The Merlin Foundation.&nbsp\;</p>\n\n<p>Advanced tickets: $14<br />\nNight of the event at the door: $20<br />\n<br />\nWomen only event.&nbsp\;</p>\n
LOCATION:Basin Park Hotel\, Ball Room 12 Spring St\, Eureka Springs\, AR 72632
UID:e.2943.147
SEQUENCE:3
DTSTAMP:20260420T093358Z
URL:https://www.berryvillechamber.com/events/details/goddess-gala-04-10-2025-147
END:VEVENT

END:VCALENDAR
