BEGIN:VCALENDAR
VERSION:2.0
PRODID:-//ChamberMaster//Event Calendar 2.0//EN
METHOD:PUBLISH
X-PUBLISHED-TTL:P3D
REFRESH-INTERVAL:P3D
CALSCALE:GREGORIAN
BEGIN:VEVENT
DTSTART:20251206T160000Z
DTEND:20251206T200000Z
X-MICROSOFT-CDO-ALLDAYEVENT:FALSE
SUMMARY:Free Photos with Santa at Brashears Furniture
DESCRIPTION:Free Photos with Santa at \n\nBrashears Furniture\n\nSaturday\, Dec 6th 10AM-2PM\nFree photo with Santa Claus! All ages are welcome!\n\nAdults: Enter to win a $250 Visa Gift Card!
X-ALT-DESC;FMTTYPE=text/html:<h1 data-pm-slice="1 1 []" style="text-align:center\;"><strong><span style="font-size:25px\;"><span style="font-family:arial\,helvetica neue\,helvetica\,sans-serif\;">Free Photos with Santa at </span></span></strong></h1>\n\n<h1 style="text-align:center\;"><strong><span style="font-size:25px\;"><span style="font-family:arial\,helvetica neue\,helvetica\,sans-serif\;">Brashears Furniture</span></span></strong></h1>\n\n<h1 style="text-align:center\;"><strong><span style="font-size:25px\;"><span style="font-family:arial\,helvetica neue\,helvetica\,sans-serif\;">Saturday\, Dec 6th 10AM-2PM</span></span></strong></h1>\n<span style="color:#080809\;"><span style="font-size:20px\;"><span style="font-family:arial\,helvetica neue\,helvetica\,sans-serif\;">Free photo with Santa Claus! All ages are welcome!</span></span></span>\n\n<p data-pm-slice="1 1 []"><span style="color:rgb(8\, 8\, 9)\;"><span style="font-size: 20px"><span style="font-family: Arial\, 'Helvetica Neue'\, Helvetica\, sans-serif">Adults: Enter to win a $250 Visa Gift Card!</span></span></span></p>\n
LOCATION:500 West Trimble Avenue\, Berryville\, AR
UID:e.2943.949
SEQUENCE:3
DTSTAMP:20260419T233806Z
URL:https://www.berryvillechamber.com/events/details/free-photos-with-santa-at-brashears-furniture-949
END:VEVENT

END:VCALENDAR
