BEGIN:VCALENDAR
VERSION:2.0
PRODID:-//ChamberMaster//Event Calendar 2.0//EN
METHOD:PUBLISH
X-PUBLISHED-TTL:P3D
REFRESH-INTERVAL:P3D
CALSCALE:GREGORIAN
BEGIN:VEVENT
DTSTART:20251205T140000Z
DTEND:20251205T153000Z
X-MICROSOFT-CDO-ALLDAYEVENT:FALSE
SUMMARY:First Friday Coffee - Hill Country Clinic of Chiropractic
DESCRIPTION:Warm Up Your December with First Friday Coffee!\n\nJoin the Berryville Chamber of Commerce for our First Friday Coffee on Friday\, December 5th at 8:00 a.m.\, hosted by Hill Country Clinic of Chiropractic\, located at 1105 S. Main Street in Berryville. Start your morning with a fresh cup of coffee\, friendly faces\, and great conversation as we gather to network and celebrate our local business community. This casual meet-up is the perfect way to connect\, collaborate\, and kick off the month with positive energy!
X-ALT-DESC;FMTTYPE=text/html:<p data-end="55" data-start="0"><strong data-end="53" data-start="2">Warm Up Your December with First Friday Coffee!</strong></p>\n\n<p data-end="534" data-is-last-node="" data-is-only-node="" data-start="57">Join the Berryville Chamber of Commerce for our <strong data-end="128" data-start="105">First Friday Coffee</strong> on <strong data-end="169" data-start="132">Friday\, December 5th at 8:00 a.m.</strong>\, hosted by <strong data-end="220" data-start="181">Hill Country Clinic of Chiropractic</strong>\, located at <strong data-end="270" data-start="233">1105 S. Main Street in Berryville</strong>. Start your morning with a fresh cup of coffee\, friendly faces\, and great conversation as we gather to network and celebrate our local business community. This casual meet-up is the perfect way to connect\, collaborate\, and kick off the month with positive energy!</p>\n
LOCATION:Hill Country Clinic of Chiropractic\, located at 1105 S. Main Street in Berryville
UID:e.2943.946
SEQUENCE:3
DTSTAMP:20260419T220637Z
URL:https://www.berryvillechamber.com/events/details/first-friday-coffee-hill-country-clinic-of-chiropractic-946
END:VEVENT

END:VCALENDAR
