BEGIN:VCALENDAR
VERSION:2.0
PRODID:-//ChamberMaster//Event Calendar 2.0//EN
METHOD:PUBLISH
X-PUBLISHED-TTL:P3D
REFRESH-INTERVAL:P3D
CALSCALE:GREGORIAN
BEGIN:VEVENT
DTSTART:20241206T140000Z
DTEND:20241206T153000Z
X-MICROSOFT-CDO-ALLDAYEVENT:FALSE
SUMMARY:First Friday Coffee - Hidden Treasures/Good Coffee Co/Friends of the Berryville Library
DESCRIPTION:
X-ALT-DESC;FMTTYPE=text/html:
LOCATION:Hidden Treasures - 501 S Main Street\, Berryville\, AR 72616
UID:e.2943.350
SEQUENCE:3
DTSTAMP:20260420T192627Z
URL:https://www.berryvillechamber.com/events/details/first-friday-coffee-hidden-treasures-good-coffee-co-friends-of-the-berryville-library-350
END:VEVENT

END:VCALENDAR
