BEGIN:VCALENDAR
VERSION:2.0
PRODID:-//ChamberMaster//Event Calendar 2.0//EN
METHOD:PUBLISH
X-PUBLISHED-TTL:P3D
REFRESH-INTERVAL:P3D
CALSCALE:GREGORIAN
BEGIN:VEVENT
DTSTART:20260206T140000Z
DTEND:20260206T153000Z
X-MICROSOFT-CDO-ALLDAYEVENT:FALSE
SUMMARY:FIRST FRIDAY COFFEE: Carroll County Airport
DESCRIPTION:February's First Friday Coffee takes networking to new heights at the Carroll County Airport! Join the Berryville Chamber of Commerce for a relaxed\, come-and-go morning of coffee\, conversation\, and connections with fellow business owners\, professionals\, and community leaders. Enjoy fresh coffee while learning more about the airport's role in our local economy and the opportunities it brings to Berryville and Carroll County. Whether you're a long-time Chamber member or new to the community\, this is the perfect way to start your Friday\, grow your network\, and stay engaged with what's happening locally.
X-ALT-DESC;FMTTYPE=text/html:February&rsquo\;s <strong data-end="34" data-start="11">First Friday Coffee</strong> takes networking to new heights at the <strong data-end="115" data-start="74">Carroll County Airport</strong>! Join the Berryville Chamber of Commerce for a relaxed\, come-and-go morning of coffee\, conversation\, and connections with fellow business owners\, professionals\, and community leaders. Enjoy fresh coffee while learning more about the airport&rsquo\;s role in our local economy and the opportunities it brings to Berryville and Carroll County. Whether you&rsquo\;re a long-time Chamber member or new to the community\, this is the perfect way to start your Friday\, grow your network\, and stay engaged with what&rsquo\;s happening locally.
LOCATION:518 CR 308 Berryville\, AR 72616
UID:e.2943.953
SEQUENCE:3
DTSTAMP:20260419T185528Z
URL:https://www.berryvillechamber.com/events/details/first-friday-coffee-carroll-county-airport-953
END:VEVENT

END:VCALENDAR
