BEGIN:VCALENDAR
VERSION:2.0
PRODID:-//ChamberMaster//Event Calendar 2.0//EN
METHOD:PUBLISH
X-PUBLISHED-TTL:P3D
REFRESH-INTERVAL:P3D
CALSCALE:GREGORIAN
BEGIN:VEVENT
DTSTART:20241101T130000Z
DTEND:20241101T143000Z
X-MICROSOFT-CDO-ALLDAYEVENT:FALSE
SUMMARY:First Friday Coffee - Biz Z Bee Flea Market
DESCRIPTION:
X-ALT-DESC;FMTTYPE=text/html:
LOCATION:
UID:e.2943.334
SEQUENCE:3
DTSTAMP:20260420T205917Z
URL:https://www.berryvillechamber.com/events/details/first-friday-coffee-biz-z-bee-flea-market-334
END:VEVENT

END:VCALENDAR
