BEGIN:VCALENDAR
VERSION:2.0
PRODID:-//ChamberMaster//Event Calendar 2.0//EN
METHOD:PUBLISH
X-PUBLISHED-TTL:P3D
REFRESH-INTERVAL:P3D
CALSCALE:GREGORIAN
BEGIN:VEVENT
DTSTART:20250801T130000Z
DTEND:20250801T143000Z
X-MICROSOFT-CDO-ALLDAYEVENT:FALSE
SUMMARY:First Friday Coffee – August 1st hosted by Blossoms at The Berryville Community Center
DESCRIPTION:Join the Berryville Chamber of Commerce for our First Friday Coffee on Friday\, August 1st at 8:00 AM\, hosted by Blossoms Rehab and Nursing Center at the Berryville Community Center\, 601 Dr Spurlin Dr.\, Berryville\, AR. Enjoy fresh coffee\, light refreshments\, and great conversation while networking with fellow community members and local businesses. Don't miss this opportunity to connect and start your Friday off right!
X-ALT-DESC;FMTTYPE=text/html:<span style="color: rgb(8\, 8\, 9)\; font-family: &quot\;Segoe UI Historic&quot\;\, &quot\;Segoe UI&quot\;\, Helvetica\, Arial\, sans-serif\; font-size: 15px\;">Join the Berryville Chamber of Commerce for our First Friday Coffee on Friday\, August 1st at 8:00 AM\, hosted by Blossoms Rehab and Nursing Center at the Berryville Community Center\, 601 Dr Spurlin Dr.\, Berryville\, AR. Enjoy fresh coffee\, light refreshments\, and great conversation while networking with fellow community members and local businesses. Don&rsquo\;t miss this opportunity to connect and start your Friday off right!</span>
LOCATION:The Berryville Community Center\, 601 Dr Spurlin Dr.\, Berryville\, AR 72616
UID:e.2943.931
SEQUENCE:3
DTSTAMP:20260420T051732Z
URL:https://www.berryvillechamber.com/events/details/first-friday-coffee-august-1st-hosted-by-blossoms-at-the-berryville-community-center-931
END:VEVENT

END:VCALENDAR
