BEGIN:VCALENDAR
VERSION:2.0
PRODID:-//ChamberMaster//Event Calendar 2.0//EN
METHOD:PUBLISH
X-PUBLISHED-TTL:P3D
REFRESH-INTERVAL:P3D
CALSCALE:GREGORIAN
BEGIN:VEVENT
DTSTART:20251107T140000Z
DTEND:20251107T153000Z
X-MICROSOFT-CDO-ALLDAYEVENT:FALSE
SUMMARY:First Friday Coffee - Arkansas Hospice\, soon to be LifeTouch Health
DESCRIPTION:November First Friday Coffee to be held at Arkansas Hospice\, soon to be LifeTouch!\nThe Berryville Chamber of Commerce invites you to our next First Friday Coffee on Friday\, November 7th\, 2025 from 8:00am 9:30am at Arkansas Hospice\, soon to be LifeTouch Health (310 S Main Street\, Suite D\, Berryville).\n\n\n\nEnjoy complimentary coffee and light refreshments while connecting with fellow Chamber members\, business leaders\, and neighbors. First Friday Coffee is always free and open to the public\, so we encourage you to stop by\, bring a colleague\, and start your day with great community conversation.
X-ALT-DESC;FMTTYPE=text/html:<h1 data-pm-slice="1 1 []" style="text-align:center\;"><span style="font-size:25px\;"><span style="font-family:arial\,helvetica neue\,helvetica\,sans-serif\;">November First Friday Coffee to be held at Arkansas Hospice\, soon to be LifeTouch!</span></span></h1>\n<span style="font-size:20px\;"><span style="font-family:arial\,helvetica neue\,helvetica\,sans-serif\;">The Berryville Chamber of Commerce invites you to our next </span></span><strong><span style="font-size:20px\;"><span style="font-family:arial\,helvetica neue\,helvetica\,sans-serif\;">First Friday Coffee</span></span></strong><span style="font-size:20px\;"><span style="font-family:arial\,helvetica neue\,helvetica\,sans-serif\;"> on </span></span><strong><span style="font-size:20px\;"><span style="font-family:arial\,helvetica neue\,helvetica\,sans-serif\;">Friday\, November 7th\, 2025 from 8:00am&ndash\;9:30am</span></span></strong><span style="font-size:20px\;"><span style="font-family:arial\,helvetica neue\,helvetica\,sans-serif\;"> at </span></span><strong><span style="font-size:20px\;"><span style="font-family:arial\,helvetica neue\,helvetica\,sans-serif\;">Arkansas Hospice\, soon to be LifeTouch Health (310 S Main Street\, Suite D\, Berryville)</span></span></strong><span style="font-size:20px\;"><span style="font-family:arial\,helvetica neue\,helvetica\,sans-serif\;">.</span></span><br />\n<br />\n<span style="font-size:20px\;"><span style="font-family:arial\,helvetica neue\,helvetica\,sans-serif\;">Enjoy complimentary coffee and light refreshments while connecting with fellow Chamber members\, business leaders\, and neighbors. First Friday Coffee is always </span></span><strong><span style="font-size:20px\;"><span style="font-family:arial\,helvetica neue\,helvetica\,sans-serif\;">free and open to the public</span></span></strong><span style="font-size:20px\;"><span style="font-family:arial\,helvetica neue\,helvetica\,sans-serif\;">\, so we encourage you to stop by\, bring a colleague\, and start your day with great community conversation.</span></span>
LOCATION:Arkansas Hospice\, soon to be LifeTouch Health (310 S Main Street\, Suite D\, Berryville)
UID:e.2943.940
SEQUENCE:3
DTSTAMP:20260419T233557Z
URL:https://www.berryvillechamber.com/events/details/first-friday-coffee-arkansas-hospice-soon-to-be-lifetouch-health-940
END:VEVENT

END:VCALENDAR
