BEGIN:VCALENDAR
VERSION:2.0
PRODID:-//ChamberMaster//Event Calendar 2.0//EN
METHOD:PUBLISH
X-PUBLISHED-TTL:P3D
REFRESH-INTERVAL:P3D
CALSCALE:GREGORIAN
BEGIN:VEVENT
DTSTART:20251107T170000Z
DTEND:20251107T180000Z
X-MICROSOFT-CDO-ALLDAYEVENT:FALSE
SUMMARY:Equity Bank Veterans Quarterly Appreciation Luncheon
DESCRIPTION:Equity Bank Veterans Quarterly Appreciation Luncheon
X-ALT-DESC;FMTTYPE=text/html:Equity Bank Veterans Quarterly Appreciation Luncheon
LOCATION:Equity Bank Lobby 911 W Trimble Ave Berryville\, AR 72616
UID:e.2943.934
SEQUENCE:3
DTSTAMP:20260419T233228Z
URL:https://www.berryvillechamber.com/events/details/equity-bank-veterans-quarterly-appreciation-luncheon-934
END:VEVENT

END:VCALENDAR
