BEGIN:VCALENDAR
VERSION:2.0
PRODID:-//ChamberMaster//Event Calendar 2.0//EN
METHOD:PUBLISH
X-PUBLISHED-TTL:P3D
REFRESH-INTERVAL:P3D
CALSCALE:GREGORIAN
BEGIN:VEVENT
DTSTART:20251006T233000Z
DTEND:20251007T003000Z
X-MICROSOFT-CDO-ALLDAYEVENT:FALSE
SUMMARY:Domestic Violence Awareness Vigil by The Purple Flower
DESCRIPTION:For Domestic Violence Awareness Month\, we invite you to honor those we've lost to cycles of violence and the survivors we support. This is a space for remembrance as well as healing\, reflection\, and community connection for all of us touched by domestic violence here in Carroll County. If you have lost a loved one\, friend\, or family member to domestic violence\, someone from our county or connected to our community\, we would love to honor their memory. Please anonymously send us their name and any words you'd like read to honor them: https://forms.gle/JbNR2Roxy4uGv4mX8. Please share this form with others who may also have honorees to add. Together we will: honor those we've lost\, hold space for those still living in danger\,  advocate for change so no more lives are stolen. If you feel called to share your story at the event\, please send us a direct message to let us know! Raising our voices together ripples out into our community through the hearts we touch. Together\, we can shine light in solidarity.
X-ALT-DESC;FMTTYPE=text/html:For Domestic Violence Awareness Month\, we invite you to honor those we&#39\;ve lost to cycles of violence and the survivors we support. This is a space for remembrance as well as healing\, reflection\, and community connection for all of us touched by domestic violence here in Carroll County. If you have lost a loved one\, friend\, or family member to domestic violence\, someone from our county or connected to our community\, we would love to honor their memory. Please anonymously send us their name and any words you&#39\;d like read to honor them: https://forms.gle/JbNR2Roxy4uGv4mX8. Please share this form with others who may also have honorees to add. Together we will: honor those we&rsquo\;ve lost\, hold space for those still living in danger\,&nbsp\; advocate for change so no more lives are stolen. If you feel called to share your story at the event\, please send us a direct message to let us know! Raising our voices together ripples out into our community through the hearts we touch. Together\, we can shine light in solidarity.
LOCATION:Berryville Public Square
UID:e.2943.941
SEQUENCE:3
DTSTAMP:20260420T005844Z
URL:https://www.berryvillechamber.com/events/details/domestic-violence-awareness-vigil-by-the-purple-flower-941
END:VEVENT

END:VCALENDAR
