BEGIN:VCALENDAR
VERSION:2.0
PRODID:-//ChamberMaster//Event Calendar 2.0//EN
METHOD:PUBLISH
X-PUBLISHED-TTL:P3D
REFRESH-INTERVAL:P3D
CALSCALE:GREGORIAN
BEGIN:VEVENT
DTSTART:20251106T170000Z
DTEND:20251106T190000Z
X-MICROSOFT-CDO-ALLDAYEVENT:FALSE
SUMMARY:Doing Business In AR Small Business Owner Workshop
DESCRIPTION:Small Business Owner Resource Workshop \n\nFree & Open to the Public | Drop in anytime during the event!\n\n\n	     Arkansas Secretary of State   On-site rep for Q&A on starting or running a business.\n	Berryville Chamber of Commerce   Tips on using your Chamber Directory page to boost marketing & SEO.\n	Berryville Public Library   Explore local business resources & entrepreneur support tools.\n	CS Bank   Learn about business banking and financial setup.\n	Trusted Advisors Insurance   Get answers to your commercial insurance questions.\n	Carroll County Clerk's Office   Guidance on DBAs\, county filings\, and online resources.\n\n\nLocation: Berryville Library\, 104 Spring St.\, Berryville\, AR 72616\n\nCall: 870-423-3704 |    Email: info@berryvillechamber.com
X-ALT-DESC;FMTTYPE=text/html:<p class="cvGsUA direction-ltr align-center para-style-body" style="color: rgba(32\,29\,33\,var(--O42jJQ\,1))\; caret-color: rgb(32\, 29\, 33)\; --8sD0Kg: none\; font-family: YAFdJjTk5UU_0\, _fb_\, auto\; --cyV3ZQ: 32.8016px\; --gJPlXQ: 1.4\; line-height: 45px\;"><span class="a_GcMg font-feature-liga-off font-feature-clig-off font-feature-calt-off text-decoration-none text-strikethrough-none" style="color: rgba(32\,29\,33\,var(--O42jJQ\,1))\; --Ys-XuQ: none\; font-weight: 700\; font-kerning: normal\;">Small Business Owner Resource Workshop</span><span class="a_GcMg font-feature-liga-off font-feature-clig-off font-feature-calt-off text-decoration-none text-strikethrough-none white-space-prewrap" style="color: rgba(32\,29\,33\,var(--O42jJQ\,1))\; --Ys-XuQ: none\; font-weight: 700\; font-kerning: normal\;"> </span></p>\n\n<p class="cvGsUA direction-ltr align-center para-style-body" style="color: rgba(32\,29\,33\,var(--O42jJQ\,1))\; caret-color: rgb(32\, 29\, 33)\; --8sD0Kg: none\; font-family: YAFdJjTk5UU_0\, _fb_\, auto\; --cyV3ZQ: 22.1352px\; --gJPlXQ: 1.4\; line-height: 30px\;"><span class="a_GcMg font-feature-liga-off font-feature-clig-off font-feature-calt-off text-decoration-none text-strikethrough-none" style="color: rgba(32\,29\,33\,var(--O42jJQ\,1))\; --Ys-XuQ: none\; font-weight: 700\; font-kerning: normal\;">Free &amp\; Open to the Public | Drop in anytime during the event!</span></p>\n\n<ul>\n	<li>&nbsp\;&nbsp\;&nbsp\;&nbsp\;&#8203\;<span class="a_GcMg font-feature-liga-off font-feature-clig-off font-feature-calt-off text-decoration-none text-strikethrough-none" style="color: rgba(32\,29\,33\,var(--O42jJQ\,1))\; caret-color: rgb(32\, 29\, 33)\; --Ys-XuQ: none\; font-weight: 700\; font-kerning: normal\;">Arkansas Secretary of State &ndash\; </span><span class="a_GcMg font-feature-liga-off font-feature-clig-off font-feature-calt-off text-decoration-none text-strikethrough-none" style="color: rgba(32\,29\,33\,var(--O42jJQ\,1))\; caret-color: rgb(32\, 29\, 33)\; --Ys-XuQ: none\; font-kerning: normal\;">On-site rep for Q&amp\;A on starting or running a business.</span></li>\n	<li><span class="a_GcMg font-feature-liga-off font-feature-clig-off font-feature-calt-off text-decoration-none text-strikethrough-none" style="color: rgba(32\,29\,33\,var(--O42jJQ\,1))\; caret-color: rgb(32\, 29\, 33)\; --Ys-XuQ: none\; font-weight: 700\; font-kerning: normal\;">Berryville Chamber of Commerce &ndash\; </span><span class="a_GcMg font-feature-liga-off font-feature-clig-off font-feature-calt-off text-decoration-none text-strikethrough-none" style="color: rgba(32\,29\,33\,var(--O42jJQ\,1))\; caret-color: rgb(32\, 29\, 33)\; --Ys-XuQ: none\; font-kerning: normal\;">Tips on using your Chamber Directory page to boost marketing &amp\; SEO.</span></li>\n	<li><span class="a_GcMg font-feature-liga-off font-feature-clig-off font-feature-calt-off text-decoration-none text-strikethrough-none" style="color: rgba(32\,29\,33\,var(--O42jJQ\,1))\; caret-color: rgb(32\, 29\, 33)\; --Ys-XuQ: none\; font-weight: 700\; font-kerning: normal\;">Berryville Public Library &ndash\;</span><span class="a_GcMg font-feature-liga-off font-feature-clig-off font-feature-calt-off text-decoration-none text-strikethrough-none" style="color: rgba(32\,29\,33\,var(--O42jJQ\,1))\; caret-color: rgb(32\, 29\, 33)\; --Ys-XuQ: none\; font-kerning: normal\;"> Explore local business resources &amp\; entrepreneur support tools.</span></li>\n	<li><span class="a_GcMg font-feature-liga-off font-feature-clig-off font-feature-calt-off text-decoration-none text-strikethrough-none" style="color: rgba(32\,29\,33\,var(--O42jJQ\,1))\; caret-color: rgb(32\, 29\, 33)\; --Ys-XuQ: none\; font-weight: 700\; font-kerning: normal\;">CS Bank &ndash\; </span><span class="a_GcMg font-feature-liga-off font-feature-clig-off font-feature-calt-off text-decoration-none text-strikethrough-none" style="color: rgba(32\,29\,33\,var(--O42jJQ\,1))\; caret-color: rgb(32\, 29\, 33)\; --Ys-XuQ: none\; font-kerning: normal\;">Learn about business banking and financial setup.</span></li>\n	<li><span class="a_GcMg font-feature-liga-off font-feature-clig-off font-feature-calt-off text-decoration-none text-strikethrough-none" style="color: rgba(32\,29\,33\,var(--O42jJQ\,1))\; caret-color: rgb(32\, 29\, 33)\; --Ys-XuQ: none\; font-weight: 700\; font-kerning: normal\;">Trusted Advisors Insurance &ndash\; </span><span class="a_GcMg font-feature-liga-off font-feature-clig-off font-feature-calt-off text-decoration-none text-strikethrough-none" style="color: rgba(32\,29\,33\,var(--O42jJQ\,1))\; caret-color: rgb(32\, 29\, 33)\; --Ys-XuQ: none\; font-kerning: normal\;">Get answers to your commercial insurance questions.</span></li>\n	<li><span class="a_GcMg font-feature-liga-off font-feature-clig-off font-feature-calt-off text-decoration-none text-strikethrough-none" style="color: rgba(32\,29\,33\,var(--O42jJQ\,1))\; caret-color: rgb(32\, 29\, 33)\; --Ys-XuQ: none\; font-weight: 700\; font-kerning: normal\;">Carroll County Clerk&rsquo\;s Office &ndash\; </span><span class="a_GcMg font-feature-liga-off font-feature-clig-off font-feature-calt-off text-decoration-none text-strikethrough-none" style="color: rgba(32\,29\,33\,var(--O42jJQ\,1))\; caret-color: rgb(32\, 29\, 33)\; --Ys-XuQ: none\; font-kerning: normal\;">Guidance on DBAs\, county filings\, and online resources.</span></li>\n</ul>\n\n<p class="cvGsUA direction-ltr align-center para-style-body" style="color: rgba(32\,29\,33\,var(--O42jJQ\,1))\; caret-color: rgb(32\, 29\, 33)\; --8sD0Kg: none\; font-family: YAFdJjTk5UU_0\, _fb_\, auto\; --cyV3ZQ: 22.1352px\; --gJPlXQ: 1.4\; line-height: 30px\;"><span class="a_GcMg font-feature-liga-off font-feature-clig-off font-feature-calt-off text-decoration-none text-strikethrough-none" style="color: rgba(32\,29\,33\,var(--O42jJQ\,1))\; --Ys-XuQ: none\; font-weight: 700\; font-kerning: normal\;">Location: Berryville Library\, 104 Spring St.\, Berryville\, AR 72616<br />\nCall: 870-423-3704 | &#9993\;&#65039\; Email: info@berryvillechamber.com</span></p>\n
LOCATION:Location: Berryville Library\, 104 Spring St.\, Berryville\, AR 72616
UID:e.2943.945
SEQUENCE:3
DTSTAMP:20260419T233137Z
URL:https://www.berryvillechamber.com/events/details/doing-business-in-ar-small-business-owner-workshop-945
END:VEVENT

END:VCALENDAR
